BEGIN:VCALENDAR
VERSION:2.0
PRODID:-//ChamberMaster//Event Calendar 2.0//EN
METHOD:PUBLISH
X-PUBLISHED-TTL:P3D
REFRESH-INTERVAL:P3D
CALSCALE:GREGORIAN
BEGIN:VEVENT
DTSTART;VALUE=DATE:20240518
DTEND;VALUE=DATE:20240519
TRANSP:TRANSPARENT
X-MICROSOFT-CDO-ALLDAYEVENT:TRUE
SUMMARY:Mindful Movement for Mental Health
DESCRIPTION:Mindful Movement for Mental Health at The Aura House\n\n\n\nJoin The Aura House as we acknowledge "Mental Health Awareness Month" for a free community event to engage in a gentle yoga flow\, guided meditation\, and sound bath to support your physical\, emotional\, and mental health.\n\n\n\nWe will be offering 4 classes so pick a time that works for you! \nSaturday\, May 18th at The Aura House\n\n\n	9am- 10am\n	11am- 12pm\n	4pm- 5pm\n	6pm- 7pm\n\nWhile the event is free\, space is limited\, so be sure to RSVP here.
X-ALT-DESC;FMTTYPE=text/html:<span style="font-size:14px"><span style="font-family:times new roman"><u><strong>Mindful Movement for Mental Health at The Aura House</strong></u><br />\n<br />\nJoin <a href="http://www.theaurahouse.com">The Aura House</a> as we acknowledge &quot\;Mental Health Awareness Month&quot\; for a&nbsp\;<span style="color:rgb(48\, 48\, 48)">free community event to engage in a gentle yoga flow\, guided meditation\, and sound bath to support your physical\, emotional\, and mental health.<br />\n<br />\nWe will be offering 4 classes so pick a time that works for you!&nbsp\;</span></span></span>\n<p><span style="font-family:times new roman\; font-size:14px">Saturday\, May 18th at The Aura House</span></p>\n\n<ul>\n	<li><span style="font-size:14px"><span style="font-family:times new roman">9am- 10am</span></span></li>\n	<li><span style="font-size:14px"><span style="font-family:times new roman">11am- 12pm</span></span></li>\n	<li><span style="font-size:14px"><span style="font-family:times new roman">4pm- 5pm</span></span></li>\n	<li><span style="font-size:14px"><span style="font-family:times new roman">6pm- 7pm</span></span></li>\n</ul>\n<span style="color:rgb(48\, 48\, 48)\; font-family:avenir-lt-w01_35-light1475496\,avenir-lt-w05_35-light\,sans-serif\; font-size:16px"><span style="font-size:14px"><span style="font-family:times new roman">While the event is free\, space is limited\, so be sure to RSVP <a href="https://www.theaurahouse.com/event-details/mindful-movement-for-mental-health-2024-05-18-09-00">here</a>.&nbsp\;</span></span></span><br />\n<br />\n&nbsp\;
LOCATION:The Aura House 917 N. Joe Wilson Rd. B101 Cedar Hill\, TX 75104
UID:e.1426.19490
SEQUENCE:3
DTSTAMP:20260423T163150Z
URL:https://www.cedarhillchamber.org/events/details/mindful-movement-for-mental-health-19490
END:VEVENT

END:VCALENDAR
