BEGIN:VCALENDAR
VERSION:2.0
PRODID:-//ChamberMaster//Event Calendar 2.0//EN
METHOD:PUBLISH
X-PUBLISHED-TTL:P3D
REFRESH-INTERVAL:P3D
CALSCALE:GREGORIAN
BEGIN:VEVENT
DTSTART:20210422T140000Z
DTEND:20210422T160000Z
X-MICROSOFT-CDO-ALLDAYEVENT:FALSE
SUMMARY:Membership Drive
DESCRIPTION:We've asked\, listened\, and now we are making some changes. On April 22nd\, we are discussing some of these potential changes and hearing from you a final time on what is valuable to you and your business. \n\nTo see how it impacts you our existing family and friends\, join us to celebrate our changes.
X-ALT-DESC;FMTTYPE=text/html:<p>We&#39\;ve asked\, listened\, and now we are making some changes.&nbsp\;On April 22nd\, we are discussing some of these potential changes and hearing from you a final time on what is valuable to you and your business.&nbsp\;</p>\n\n<p>To see how it impacts you our existing family and friends\, join us to celebrate our changes.</p>\n
LOCATION:Cedar Hill is inviting you to a scheduled Zoom meeting. Topic: Virtual Membership Drive Time: Apr 22\, 2021 09:00 AM Central Time (US and Canada) Join Zoom Meeting https://us02web.zoom.us/j/4692722902?pwd=M1kyOXRCK0pWa2Z5S1lnOTRpcHQ0QT09 Meeting ID: 469 272 2902 Passcode: JoinUs Dial by your location +1 346 248 7799 US (Houston) 877 853 5257 US Toll-free Meeting ID: 469 272 2902 Passcode: 465274 Find your local number: https://us02web.zoom.us/u/k4pqas9jJ
UID:e.1426.16448
SEQUENCE:3
DTSTAMP:20260425T001232Z
URL:https://www.cedarhillchamber.org/events/details/membership-drive-16448
END:VEVENT

END:VCALENDAR
