BEGIN:VCALENDAR
VERSION:2.0
PRODID:-//ChamberMaster//Event Calendar 2.0//EN
METHOD:PUBLISH
X-PUBLISHED-TTL:P3D
REFRESH-INTERVAL:P3D
CALSCALE:GREGORIAN
BEGIN:VEVENT
DTSTART:20221018T230000Z
DTEND:20221019T000000Z
X-MICROSOFT-CDO-ALLDAYEVENT:FALSE
SUMMARY:Medicare Marketing Event
DESCRIPTION:If you are confused about Medicare and which Medicare Advantage plan works best for you\, please come to our Medicare Advantage Marketing/Sales Event where we will walk through a typical Medicare Advantage plan and answer your questions.
X-ALT-DESC;FMTTYPE=text/html:If you are confused about Medicare and which Medicare Advantage plan works best for you\, please come to our Medicare Advantage Marketing/Sales Event where we will walk through a typical Medicare Advantage plan and answer your questions.
LOCATION:Cedar Hill Chamber of Commerce Meeting Room 300 Houston St Cedar Hill\, TX 75104
UID:e.1426.17862
SEQUENCE:3
DTSTAMP:20260423T200632Z
URL:https://www.cedarhillchamber.org/events/details/medicare-marketing-event-17862
END:VEVENT

END:VCALENDAR
