BEGIN:VCALENDAR
VERSION:2.0
PRODID:-//ChamberMaster//Event Calendar 2.0//EN
METHOD:PUBLISH
X-PUBLISHED-TTL:P3D
REFRESH-INTERVAL:P3D
CALSCALE:GREGORIAN
BEGIN:VEVENT
DTSTART:20221029T200000Z
DTEND:20221029T210000Z
X-MICROSOFT-CDO-ALLDAYEVENT:FALSE
SUMMARY:Medicare Marketing Event
DESCRIPTION:If you are confused about Medicare and which Medicare Advantage plan works best for you\, please come to our Medicare Advantage Marketing/Sales Event where we will walk through a typical Medicare Advantage plan and answer your questions.
X-ALT-DESC;FMTTYPE=text/html:<span style="color:#333333"><span style="font-family:arial\,sans-serif"><span style="font-size:10.0pt">If you are confused about Medicare and which Medicare Advantage plan works best for you\, please come to our Medicare Advantage Marketing/Sales Event where we will walk through a typical Medicare Advantage plan and answer your questions.</span></span></span>
LOCATION:Cedar Hill Chamber of Commerce Meeting Room 300 Houston St Cedar Hill\, TX 75104
UID:e.1426.17864
SEQUENCE:3
DTSTAMP:20260423T183537Z
URL:https://www.cedarhillchamber.org/events/details/medicare-marketing-event-10-29-2022-17864
END:VEVENT

END:VCALENDAR
