BEGIN:VCALENDAR
VERSION:2.0
PRODID:-//ChamberMaster//Event Calendar 2.0//EN
METHOD:PUBLISH
X-PUBLISHED-TTL:P3D
REFRESH-INTERVAL:P3D
CALSCALE:GREGORIAN
BEGIN:VEVENT
DTSTART:20230422T200000Z
DTEND:20230422T213000Z
X-MICROSOFT-CDO-ALLDAYEVENT:FALSE
SUMMARY:Medicare Educational Marketing Event
DESCRIPTION:If you are confused about Medicare and which Medicare option works best for you\, please come to our Medicare Educational Marketing Event where we will walk through the two options available to you.  Please plan on bringing your questions so we can provide you with answers and take the confusion out of Medicare.
X-ALT-DESC;FMTTYPE=text/html:<span style="color:#333333"><span style="font-family:arial\,sans-serif"><span style="font-size:10.0pt">If you are confused about Medicare and which Medicare option works best for you\, please come to our Medicare Educational Marketing Event where we will walk through the two options available to you.&nbsp\; Please plan on bringing your questions so we can provide you with answers and take the confusion out of Medicare.</span></span></span>
LOCATION:Cedar Hill Chamber of Commerce Meeting Room 300 Houston St Cedar Hill\, TX 75104
UID:e.1426.18086
SEQUENCE:3
DTSTAMP:20260423T221619Z
URL:https://www.cedarhillchamber.org/events/details/medicare-educational-marketing-event-18086
END:VEVENT

END:VCALENDAR
