BEGIN:VCALENDAR
VERSION:2.0
PRODID:-//ChamberMaster//Event Calendar 2.0//EN
METHOD:PUBLISH
X-PUBLISHED-TTL:P3D
REFRESH-INTERVAL:P3D
CALSCALE:GREGORIAN
BEGIN:VEVENT
DTSTART;VALUE=DATE:20220611
DTEND;VALUE=DATE:20220612
TRANSP:TRANSPARENT
X-MICROSOFT-CDO-ALLDAYEVENT:TRUE
SUMMARY:Maverick Financial Weekly Market Commentary Facilitated Discussion
DESCRIPTION:Economy Slowing but Not Shrinking\n\n6/6/2022\n\nWeekly Market Commentary\n\nby Jeffrey Roach\, PhD\, Chief Economist\, LPL Financial and Lawrence Gillum\, CFA\, Fixed Income Strategist\, LPL Financial\nDiscussion facilitated by Harry Grant\, CEPA \, LPL Financial Advisor\, Maverick Financial\, Dallas\, TX  \n\nIMPORTANT DISCLOSURES This material is for general information only and is not intended to provide specific advice or recommendations for any individual. There is no assurance that the view s or strategies discussed are suitable for all investors or will yield positive outcomes. Investing involves risks including possible loss of principal. Any economic forecasts set forth may not develop as predicted and are subject to change. References to markets\, asset classes\, and sectors are generally regarding the corresponding market index. Indexes are unmanaged statistical composites and cannot be invested into directly. Index performance is not indicative of the performance of any investment and do not reflect fees\, expenses\, or sales charges. All performance referenced is historical and is no guarantee of future results. Bonds are subject to market and interest rate risk if sold prior to maturity. Bond values will decline as interest rates rise and bonds are subject to availability and change in price. There is no guarantee that a diversified portfolio will enhance overall returns or outperform a non-diversified portfolio. Diversification does not protect against market risk. Any company names noted herein are for educational purposes only and not an indication of trading intent or a solicitation of their products or services. LPL Financial doesn't provide research on individual equities. All information is believed to be from reliable sources\; however\, LPL Financial makes no representation as to its completeness or accuracy. US Treasuries may be considered "safe haven" investments but do carry some degree of risk including interest rate\, credit\, and market risk. Bonds are subject to market and interest rate risk if sold prior to maturity. Bond values will decline as interest rates rise and bonds are subject to availability and change in price. The Bloomberg Aggregate U.S. Bond Index represents securities that are SEC-registered\, taxable\, and dollar denominated. The index covers the U.S. investment-grade fixed rate bond market\, with index components for government and corporate securities\, mortgage pass-through securities\, and asset-backed securities. The Standard & Poor's 500 Index (S&P500) is a capitalization-weighted index of 500 stocks designed to measure performance of the broad domestic economy through changes in the aggregate market value of 500 stocks representing all major industries. All index data from FactSet.\n\nRES-1164201-0522 | For Public Use | Tracking # 1-05290182
X-ALT-DESC;FMTTYPE=text/html:<h2>Economy Slowing but Not Shrinking<br />\n6/6/2022<br />\nWeekly Market Commentary<br />\nby Jeffrey Roach\, PhD\, Chief Economist\, LPL Financial and Lawrence Gillum\, CFA\, Fixed Income Strategist\, LPL Financial</h2>\n<span style="font-size:14px">Discussion facilitated by Harry Grant\, CEPA&reg\;\, LPL Financial Advisor\, Maverick Financial\, Dallas\, TX&nbsp\;&nbsp\;</span><br />\n<span style="font-size:8px"><span style="color:#292F36"><span style="font-family:helvetica\,sans-serif">IMPORTANT DISCLOSURES This material is for general information only and is not intended to provide specific advice or recommendations for any individual. There is no assurance that the view s or strategies discussed are suitable for all investors or will yield positive outcomes. Investing involves risks including possible loss of principal. Any economic forecasts set forth may not develop as predicted and are subject to change. References to markets\, asset classes\, and sectors are generally regarding the corresponding market index. Indexes are unmanaged statistical composites and cannot be invested into directly. Index performance is not indicative of the performance of any investment and do not reflect fees\, expenses\, or sales charges. All performance referenced is historical and is no guarantee of future results. Bonds are subject to market and interest rate risk if sold prior to maturity. Bond values will decline as interest rates rise and bonds are subject to availability and change in price. There is no guarantee that a diversified portfolio will enhance overall returns or outperform a non-diversified portfolio. Diversification does not protect against market risk. Any company names noted herein are for educational purposes only and not an indication of trading intent or a solicitation of their products or services. LPL Financial doesn&rsquo\;t provide research on individual equities. All information is believed to be from reliable sources\; however\, LPL Financial makes no representation as to its completeness or accuracy. US Treasuries may be considered &ldquo\;safe haven&rdquo\; investments but do carry some degree of risk including interest rate\, credit\, and market risk. Bonds are subject to market and interest rate risk if sold prior to maturity. Bond values will decline as interest rates rise and bonds are subject to availability and change in price. The Bloomberg Aggregate U.S. Bond Index represents securities that are SEC-registered\, taxable\, and dollar denominated. The index covers the U.S. investment-grade fixed rate bond market\, with index components for government and corporate securities\, mortgage pass-through securities\, and asset-backed securities. The Standard &amp\; Poor&rsquo\;s 500 Index (S&amp\;P500) is a capitalization-weighted index of 500 stocks designed to measure performance of the broad domestic economy through changes in the aggregate market value of 500 stocks representing all major industries. All index data from FactSet.</span></span><br />\n<span style="color:#292F36"><span style="font-family:helvetica\,sans-serif">RES-1164201-0522 | For Public Use | Tracking # 1-05290182</span></span></span><br />\n<br />\n&nbsp\;
LOCATION:Cedar Hill Chamber of Commerce Boardroom\, 300 Houston Street\, Cedar Hill\, TX 75104 (Please enter from rear entrance.)
UID:e.1426.17738
SEQUENCE:3
DTSTAMP:20260424T013028Z
URL:https://www.cedarhillchamber.org/events/details/maverick-financial-weekly-market-commentary-facilitated-discussion-17738
END:VEVENT

END:VCALENDAR
