BEGIN:VCALENDAR
VERSION:2.0
PRODID:-//ChamberMaster//Event Calendar 2.0//EN
METHOD:PUBLISH
X-PUBLISHED-TTL:P3D
REFRESH-INTERVAL:P3D
CALSCALE:GREGORIAN
BEGIN:VEVENT
DTSTART:20230218T190000Z
DTEND:20230218T210000Z
X-MICROSOFT-CDO-ALLDAYEVENT:FALSE
SUMMARY:Mardi Gras Celebration
DESCRIPTION:Saturday\, February 18 | 1   3 PM\n\n\n\nJoin us with your favorite family krewe as we celebrate the Mardi Gras season and experience the cultural richness of the Creole heritage. Enjoy festive New Orleans jazz tunes\, featuring The MBP Band\, kids can craft a mask\, and stroll with the second-line band*.\n\n\n\n*Struck your luck as you stroll with the band and catch beads with special offers from participating retailers!\n\n\n\nGuests must register at event to receive a wristband to participate in the second-line band stroll and event. By registering at our free events\, you are agreeing to join our email event/promotional email notifications. In the event of bad weather or rain\, please check Facebook and website prior to event.
X-ALT-DESC;FMTTYPE=text/html:Saturday\, February 18 | 1 &ndash\; 3 PM<br />\n<br />\nJoin us with your favorite family krewe as we celebrate the Mardi Gras season and experience the cultural richness of the Creole heritage. Enjoy festive New Orleans jazz tunes\, featuring The MBP Band\, kids can craft a mask\, and stroll with the second-line band*.<br />\n<br />\n*Struck your luck as you stroll with the band and catch beads with special offers from participating retailers!<br />\n<br />\nGuests must register at event to receive a wristband to participate in the second-line band stroll and event. By registering at our free events\, you are agreeing to join our email event/promotional email notifications. In the event of bad weather or rain\, please check Facebook and website prior to event.
LOCATION:Hillside Village- Village Green
UID:e.1426.18051
SEQUENCE:3
DTSTAMP:20260423T183302Z
URL:https://www.cedarhillchamber.org/events/details/mardi-gras-celebration-18051
END:VEVENT

END:VCALENDAR
