BEGIN:VCALENDAR
VERSION:2.0
PRODID:-//ChamberMaster//Event Calendar 2.0//EN
METHOD:PUBLISH
X-PUBLISHED-TTL:P3D
REFRESH-INTERVAL:P3D
CALSCALE:GREGORIAN
BEGIN:VEVENT
DTSTART:20220226T190000Z
DTEND:20220226T210000Z
X-MICROSOFT-CDO-ALLDAYEVENT:FALSE
SUMMARY:Mardi Gra's Celebration- Cancelled
DESCRIPTION:Join us with your favorite family krewe at Hillside Village\, as we celebrate the Mardi Gras season and experience cultural richness of the Creole heritage. Enjoy festive New Orleans jazz tunes\, featuring The Big Easy Brass Band\, kids can craft a mask\, and stroll with the second-line band.\n\nGuests must register at event to receive a wristband to participate in the second-line band stroll and event. Be on the look-out for pre-registration opportunity online coming soon. In the event of bad weather or rain\, please check Facebook and website prior to event.
X-ALT-DESC;FMTTYPE=text/html:<p>Join us with your favorite family krewe at Hillside Village\, as we celebrate the Mardi Gras season and experience cultural richness of the Creole heritage. Enjoy festive New Orleans jazz tunes\, featuring The Big Easy Brass Band\, kids can craft a mask\, and stroll with the second-line band.</p>\n\n<p><em><strong>Guests must register at event to receive a wristband to participate in the second-line band stroll and event. Be on the look-out for pre-registration opportunity online coming soon.&nbsp\;</strong></em><strong><em>In the event of bad weather</em></strong><em><strong>&nbsp\;or rain\, please check Facebook and website prior to event.&nbsp\;</strong></em></p>\n
LOCATION:Village Green
UID:e.1426.17540
SEQUENCE:3
DTSTAMP:20260424T080023Z
URL:https://www.cedarhillchamber.org/events/details/mardi-gra-s-celebration-17540
END:VEVENT

END:VCALENDAR
