BEGIN:VCALENDAR
VERSION:2.0
PRODID:-//ChamberMaster//Event Calendar 2.0//EN
METHOD:PUBLISH
X-PUBLISHED-TTL:P3D
REFRESH-INTERVAL:P3D
CALSCALE:GREGORIAN
BEGIN:VEVENT
DTSTART:20230715T000000Z
DTEND:20230715T020000Z
X-MICROSOFT-CDO-ALLDAYEVENT:FALSE
SUMMARY:Jam To Give - The Nupower Band benefiting Bridges
DESCRIPTION:BRIDGES \n\nDonation Items - Diapers (Size 4\,5\,6) Pullups (2T\,3T\,4T) Hygiene items (shampoo\, deodorant\, toothpaste\, soap\, etc)\n\nThe concerts are free to the public and will be held at the Village Green\, located directly across from Barnes & Noble Booksellers.\n\n\n\nDuring each concert\, Hillside Village will recognize a different local nonprofit organization with a monetary donation\, as well as hosting an in-kind donation drive. Concert attendees are encouraged to bring an item requested by the featured nonprofit.
X-ALT-DESC;FMTTYPE=text/html:<p><a href="https://bridgescanhelp.org/">BRIDGES&nbsp\;</a><br />\nDonation Items - Diapers (Size 4\,5\,6) Pullups (2T\,3T\,4T) Hygiene items (shampoo\, deodorant\, toothpaste\, soap\, etc)</p>\n\n<p>The concerts are free to the public and will be held at the Village Green\, located directly across from Barnes &amp\; Noble Booksellers.<br />\n<br />\nDuring each concert\, Hillside Village will recognize a different local nonprofit organization with a monetary donation\, as well as hosting an in-kind donation drive. Concert attendees are encouraged to bring an item requested by the featured nonprofit.</p>\n
LOCATION:Hillside Village
UID:e.1426.18127
SEQUENCE:3
DTSTAMP:20260424T051202Z
URL:https://www.cedarhillchamber.org/events/details/jam-to-give-the-nupower-band-benefiting-bridges-18127
END:VEVENT

END:VCALENDAR
