BEGIN:VCALENDAR
VERSION:2.0
PRODID:-//ChamberMaster//Event Calendar 2.0//EN
METHOD:PUBLISH
X-PUBLISHED-TTL:P3D
REFRESH-INTERVAL:P3D
CALSCALE:GREGORIAN
BEGIN:VEVENT
DTSTART:20220730T000000Z
DTEND:20220730T020000Z
X-MICROSOFT-CDO-ALLDAYEVENT:FALSE
SUMMARY:Jam To Give - Project 2 benefiting CHISD Education Foundation
DESCRIPTION:CHISD Education Foundation\n\nDonation Items:  School supplies \n\nThe concerts are free to the public and will be held at the Village Green\, located directly across from Barnes & Noble Booksellers.\n\n\n\nDuring each concert\, Hillside Village will recognize a different local nonprofit organization with a monetary donation\, as well as hosting an in-kind donation drive. Concert attendees are encouraged to bring an item requested by the featured nonprofit.
X-ALT-DESC;FMTTYPE=text/html:<p>CHISD Education Foundation</p>\n\n<p>Donation Items:&nbsp\; School supplies&nbsp\;</p>\n\n<p>The concerts are free to the public and will be held at the Village Green\, located directly across from Barnes &amp\; Noble Booksellers.<br />\n<br />\nDuring each concert\, Hillside Village will recognize a different local nonprofit organization with a monetary donation\, as well as hosting an in-kind donation drive. Concert attendees are encouraged to bring an item requested by the featured nonprofit.</p>\n
LOCATION:Hillside Village
UID:e.1426.17747
SEQUENCE:3
DTSTAMP:20260423T233359Z
URL:https://www.cedarhillchamber.org/events/details/jam-to-give-project-z-benefiting-chisd-education-foundation-17747
END:VEVENT

END:VCALENDAR
