BEGIN:VCALENDAR
VERSION:2.0
PRODID:-//ChamberMaster//Event Calendar 2.0//EN
METHOD:PUBLISH
X-PUBLISHED-TTL:P3D
REFRESH-INTERVAL:P3D
CALSCALE:GREGORIAN
BEGIN:VEVENT
DTSTART:20230729T000000Z
DTEND:20230729T020000Z
X-MICROSOFT-CDO-ALLDAYEVENT:FALSE
SUMMARY:Jam To Give - Party Machine presented by Emerald City Bands benefitting Cedar Hill ISD Education Foundation
DESCRIPTION:CHISD Education Foundation \n\nDonation Items - School supplies \n\nThe concerts are free to the public and will be held at the Village Green\, located directly across from Barnes & Noble Booksellers.\n\n\n\nDuring each concert\, Hillside Village will recognize a different local nonprofit organization with a monetary donation\, as well as hosting an in-kind donation drive. Concert attendees are encouraged to bring an item requested by the featured nonprofit.
X-ALT-DESC;FMTTYPE=text/html:<p><a href="https://www.chisd.net/educationfoundation">CHISD Education Foundation&nbsp\;</a><br />\nDonation Items - School supplies&nbsp\;</p>\n\n<p>The concerts are free to the public and will be held at the Village Green\, located directly across from Barnes &amp\; Noble Booksellers.<br />\n<br />\nDuring each concert\, Hillside Village will recognize a different local nonprofit organization with a monetary donation\, as well as hosting an in-kind donation drive. Concert attendees are encouraged to bring an item requested by the featured nonprofit.</p>\n
LOCATION:Hillside Village
UID:e.1426.18129
SEQUENCE:3
DTSTAMP:20260424T034234Z
URL:https://www.cedarhillchamber.org/events/details/jam-to-give-party-machine-presented-by-emerald-city-bands-benefitting-cedar-hill-isd-education-foundation-18129
END:VEVENT

END:VCALENDAR
