BEGIN:VCALENDAR
VERSION:2.0
PRODID:-//ChamberMaster//Event Calendar 2.0//EN
METHOD:PUBLISH
X-PUBLISHED-TTL:P3D
REFRESH-INTERVAL:P3D
CALSCALE:GREGORIAN
BEGIN:VEVENT
DTSTART:20220716T000000Z
DTEND:20220716T020000Z
X-MICROSOFT-CDO-ALLDAYEVENT:FALSE
SUMMARY:Jam To Give - Party Machine benefiting Friends of Tri City Animal Shelter
DESCRIPTION:Friends of Tri City Animal Shelter \n\nDonation Items - CLICK HERE \n\nThe concerts are free to the public and will be held at the Village Green\, located directly across from Barnes & Noble Booksellers.\n\n\n\nDuring each concert\, Hillside Village will recognize a different local nonprofit organization with a monetary donation\, as well as hosting an in-kind donation drive. Concert attendees are encouraged to bring an item requested by the featured nonprofit.
X-ALT-DESC;FMTTYPE=text/html:<p>Friends of Tri City Animal Shelter&nbsp\;<br />\nDonation Items - <a href="https://www.tricityfriends.org/_files/ugd/09cc1b_4b53e8c9edb1496896301069d289612b.pdf">CLICK HERE</a>&nbsp\;</p>\n\n<p>The concerts are free to the public and will be held at the Village Green\, located directly across from Barnes &amp\; Noble Booksellers.<br />\n<br />\nDuring each concert\, Hillside Village will recognize a different local nonprofit organization with a monetary donation\, as well as hosting an in-kind donation drive. Concert attendees are encouraged to bring an item requested by the featured nonprofit.</p>\n
LOCATION:Hillside Village
UID:e.1426.17745
SEQUENCE:3
DTSTAMP:20260423T233910Z
URL:https://www.cedarhillchamber.org/events/details/jam-to-give-party-machine-benefiting-friends-of-tri-city-animal-shelter-17745
END:VEVENT

END:VCALENDAR
