BEGIN:VCALENDAR
VERSION:2.0
PRODID:-//ChamberMaster//Event Calendar 2.0//EN
METHOD:PUBLISH
X-PUBLISHED-TTL:P3D
REFRESH-INTERVAL:P3D
CALSCALE:GREGORIAN
BEGIN:VEVENT
DTSTART:20230722T000000Z
DTEND:20230722T020000Z
X-MICROSOFT-CDO-ALLDAYEVENT:FALSE
SUMMARY:Jam To Give - Lady D & The Ruff Rubies benefitting Soaring Eagles
DESCRIPTION:SOARING EAGLES\n\nDonation Items - Prizes for Bingo winners (colored gel pens\, stickers\, adult coloring books\, puzzles 24p\, jewelry\, baseball caps\, sports related items.\n\nThe concerts are free to the public and will be held at the Village Green\, located directly across from Barnes & Noble Booksellers.\n\n\n\nDuring each concert\, Hillside Village will recognize a different local nonprofit organization with a monetary donation\, as well as hosting an in-kind donation drive. Concert attendees are encouraged to bring an item requested by the featured nonprofit.
X-ALT-DESC;FMTTYPE=text/html:<p><a href="https://www.soaringeaglecenter.org/">SOARING EAGLES</a><br />\nDonation Items - Prizes for Bingo winners (colored gel pens\, stickers\, adult coloring books\, puzzles 24p\, jewelry\, baseball caps\, sports related items.</p>\n\n<p>The concerts are free to the public and will be held at the Village Green\, located directly across from Barnes &amp\; Noble Booksellers.<br />\n<br />\nDuring each concert\, Hillside Village will recognize a different local nonprofit organization with a monetary donation\, as well as hosting an in-kind donation drive. Concert attendees are encouraged to bring an item requested by the featured nonprofit.</p>\n
LOCATION:Hillside Village
UID:e.1426.18128
SEQUENCE:3
DTSTAMP:20260424T051222Z
URL:https://www.cedarhillchamber.org/events/details/jam-to-give-lady-d-the-ruff-rubies-benefitting-soaring-eagles-18128
END:VEVENT

END:VCALENDAR
