BEGIN:VCALENDAR
VERSION:2.0
PRODID:-//ChamberMaster//Event Calendar 2.0//EN
METHOD:PUBLISH
X-PUBLISHED-TTL:P3D
REFRESH-INTERVAL:P3D
CALSCALE:GREGORIAN
BEGIN:VEVENT
DTSTART:20240720T000000Z
DTEND:20240720T020000Z
X-MICROSOFT-CDO-ALLDAYEVENT:FALSE
SUMMARY:Jam To Give - Inspiration Band benefiting Bridges Can Help
DESCRIPTION:07/19/2024 | 7PM   9PM\n\nPresenting: The Inspiration Band is more than live Soul\, R&B\, Jazz & Blues entertainment\, it's an experience!\n\nBENEFITS: BRIDGES CAN HELP\n\nDONATION ITEMS: LARGE SIZE DIAPERS SIZE 4\, 5\, 6 HYGIENE ITEMS: TOOTHPASTE\, DEODORANT\, BODY WASH\, ETC.\n\nHillside Village will present its annual JAM to Give summer concert series on Fridays\, July 5   July 28 from 7 p.m. to 9 p.m. The concerts are free to the public and will be held at the Village Green\, located directly across from Barnes & Noble Booksellers. Please bring your chair and remember we ask that you do not bring coolers or outside food in the event. We have excited to Mija Barbeque food truck here at Hillside Village.\n\nFor complete concert line-up see HERE\n\nDuring each concert\, Hillside Village will recognize a different local nonprofit organization with a monetary donation\, as well as hosting an in-kind donation drive. Concert attendees are encouraged to bring an item requested by the featured nonprofit organization or $5 donation per attendee.
X-ALT-DESC;FMTTYPE=text/html:<p>07/19/2024 | 7PM &ndash\; 9PM</p>\n\n<p>Presenting:<a href="https://www.facebook.com/tibdfw" style="box-sizing: inherit\; background-color: transparent\; text-decoration-line: none\; line-height: inherit\; cursor: pointer\; box-shadow: none\; border: none\; padding: 0px\; color: rgb(34\, 34\, 34) !important\;">&nbsp\;</a><em><strong><a href="https://www.facebook.com/tibdfw" style="box-sizing: inherit\; background-color: transparent\; text-decoration-line: none\; line-height: inherit\; cursor: pointer\; box-shadow: none\; border: none\; padding: 0px\; color: rgb(34\, 34\, 34) !important\;">The Inspiration Band</a>&nbsp\;</strong></em>is more than live Soul\, R&amp\;B\, Jazz &amp\; Blues entertainment\, it&rsquo\;s an experience!</p>\n\n<h2><span style="font-size:14px"><em>BENEFITS:</em>&nbsp\;<a href="https://www.bridgescanhelp.org/" style="box-sizing: inherit\; background-color: transparent\; color: rgb(239\, 64\, 64)\; text-decoration-line: none\; line-height: inherit\; cursor: pointer\; box-shadow: none\; border: none\; padding: 0px\;"><em>BRIDGES CAN HELP</em></a></span></h2>\n\n<p><em>DONATION ITEMS:&nbsp\;</em><strong>LARGE SIZE DIAPERS SIZE 4\, 5\, 6 HYGIENE ITEMS: TOOTHPASTE\, DEODORANT\, BODY WASH\, ETC.</strong></p>\n\n<p>Hillside Village will present its annual JAM to Give summer concert series on Fridays\, July 5 &ndash\; July 28 from 7 p.m. to 9 p.m. The concerts are free to the public and will be held at the Village Green\, located directly across from&nbsp\;Barnes &amp\; Noble Booksellers.&nbsp\;Please bring your chair and remember we ask that you do not bring coolers or outside food in the event. We have excited to&nbsp\;<a href="https://www.mijabarbecue.com/" style="box-sizing: inherit\; background-color: transparent\; text-decoration-line: none\; line-height: inherit\; cursor: pointer\; box-shadow: none\; border: none\; padding: 0px\; color: rgb(34\, 34\, 34) !important\;"><strong><em>Mija Barbeque food truck</em></strong></a>&nbsp\;here at Hillside Village.</p>\n\n<p>For complete concert line-up see&nbsp\;<a href="https://shophillsidevillage.com/wp-content/uploads/2024/05/HV_Jamtogive24_eblast.jpg" style="box-sizing: inherit\; background-color: transparent\; text-decoration-line: none\; line-height: inherit\; cursor: pointer\; box-shadow: none\; border: none\; padding: 0px\; color: rgb(34\, 34\, 34) !important\;"><strong><em>HERE</em></strong></a></p>\n\n<p>During each concert\, Hillside Village will recognize a different local nonprofit organization with a monetary donation\, as well as hosting an in-kind donation drive. Concert attendees are encouraged to bring an item requested by the featured nonprofit organization or $5 donation per attendee.</p>\n
LOCATION:Hillside Village
UID:e.1426.19900
SEQUENCE:3
DTSTAMP:20260423T125422Z
URL:https://www.cedarhillchamber.org/events/details/jam-to-give-inspiration-band-benefiting-bridges-can-help-19900
END:VEVENT

END:VCALENDAR
