BEGIN:VCALENDAR
VERSION:2.0
PRODID:-//ChamberMaster//Event Calendar 2.0//EN
METHOD:PUBLISH
X-PUBLISHED-TTL:P3D
REFRESH-INTERVAL:P3D
CALSCALE:GREGORIAN
BEGIN:VEVENT
DTSTART:20240713T000000Z
DTEND:20240713T020000Z
X-MICROSOFT-CDO-ALLDAYEVENT:FALSE
SUMMARY:Jam To Give - Havana NRG benefiting Cedar Hill Shares
DESCRIPTION:7/12/2024 | 7PM   9PM\n\nPresenting: Havana NRG -Salsa\, Merengue\, Cumbia "a new breed of Latin band"\, the New Rhythm Generation that is taking our collective cultural roots to new levels!\n\nBENEFITS: CEDAR HILL SHARES\n\nDONATION ITEMS: NON- PERISHABLE FOOD ITEMS\n\nHillside Village will present its annual JAM to Give summer concert series on Fridays\, July 5   July 28 from 7 p.m. to 9 p.m. The concerts are free to the public and will be held at the Village Green\, located directly across from Barnes & Noble Booksellers. Please bring your chair and remember we ask that you do not bring coolers or outside food in the event. We have excited to Mija Barbeque food truck here at Hillside Village.\n\nFor complete concert line-up see HERE\n\nDuring each concert\, Hillside Village will recognize a different local nonprofit organization with a monetary donation\, as well as hosting an in-kind donation drive. Concert attendees are encouraged to bring an item requested by the featured nonprofit organization or $5 donation per attendee.
X-ALT-DESC;FMTTYPE=text/html:<p>7/12/2024 | 7PM &ndash\; 9PM</p>\n\n<p>Presenting:&nbsp\;<a href="https://www.havananrg.com/" style="box-sizing: inherit\; background-color: transparent\; text-decoration-line: none\; line-height: inherit\; cursor: pointer\; box-shadow: none\; border: none\; padding: 0px\; color: rgb(34\, 34\, 34) !important\;"><strong><em>Havana NRG -Salsa\, Merengue\, Cumbia</em></strong></a>&nbsp\;&ldquo\;a new breed of Latin band&rdquo\;\, the New Rhythm Generation that is taking our collective cultural roots to new levels!</p>\n\n<p><em>BENEFITS:</em>&nbsp\;<a href="https://www.facebook.com/cedarhillshares" style="background-color: transparent\; box-sizing: inherit\; color: rgb(239\, 64\, 64)\; text-decoration-line: none\; line-height: inherit\; cursor: pointer\; box-shadow: none\; border: none\; padding: 0px\;"><em>CEDAR HILL SHARES</em></a></p>\n\n<p><em>DONATION ITEMS: NON- PERISHABLE FOOD ITEMS</em></p>\n\n<p>Hillside Village will present its annual JAM to Give summer concert series on Fridays\, July 5 &ndash\; July 28 from 7 p.m. to 9 p.m. The concerts are free to the public and will be held at the Village Green\, located directly across from&nbsp\;Barnes &amp\; Noble Booksellers. Please bring your chair and remember we ask that you do not bring coolers or outside food in the event. We have excited to<strong><em>&nbsp\;<a href="https://www.mijabarbecue.com/" style="box-sizing: inherit\; background-color: transparent\; text-decoration-line: none\; line-height: inherit\; cursor: pointer\; box-shadow: none\; border: none\; padding: 0px\; color: rgb(34\, 34\, 34) !important\;">Mija Barbeque food truck</a></em></strong>&nbsp\;here at Hillside Village.</p>\n\n<p>For complete concert line-up see<a href="https://shophillsidevillage.com/wp-content/uploads/2024/05/HV_Jamtogive24_eblast.jpg" style="box-sizing: inherit\; background-color: transparent\; text-decoration-line: none\; line-height: inherit\; cursor: pointer\; box-shadow: none\; border: none\; padding: 0px\; color: rgb(34\, 34\, 34) !important\;">&nbsp\;<strong><em>HERE</em></strong></a></p>\n\n<p>During each concert\, Hillside Village will recognize a different local nonprofit organization with a monetary donation\, as well as hosting an in-kind donation drive. Concert attendees are encouraged to bring an item requested by the featured nonprofit organization or $5 donation per attendee.</p>\n
LOCATION:Hillside Village
UID:e.1426.19899
SEQUENCE:3
DTSTAMP:20260423T125618Z
URL:https://www.cedarhillchamber.org/events/details/jam-to-give-havana-nrg-benefiting-cedar-hill-shares-19899
END:VEVENT

END:VCALENDAR
