BEGIN:VCALENDAR
VERSION:2.0
PRODID:-//ChamberMaster//Event Calendar 2.0//EN
METHOD:PUBLISH
X-PUBLISHED-TTL:P3D
REFRESH-INTERVAL:P3D
CALSCALE:GREGORIAN
BEGIN:VEVENT
DTSTART;VALUE=DATE:20220722
DTEND;VALUE=DATE:20220723
TRANSP:TRANSPARENT
X-MICROSOFT-CDO-ALLDAYEVENT:TRUE
SUMMARY:Jam To Give - Fingerprints benefiting Friends of Zula B Library
DESCRIPTION:Zula B Library\n\nDonation Items:  Non perishable food items \n\nThe concerts are free to the public and will be held at the Village Green\, located directly across from Barnes & Noble Booksellers.\n\n\n\nDuring each concert\, Hillside Village will recognize a different local nonprofit organization with a monetary donation\, as well as hosting an in-kind donation drive. Concert attendees are encouraged to bring an item requested by the featured nonprofit.
X-ALT-DESC;FMTTYPE=text/html:<p>Zula B Library</p>\n\n<p>Donation Items:&nbsp\; Non perishable food items&nbsp\;</p>\n\n<p>The concerts are free to the public and will be held at the Village Green\, located directly across from Barnes &amp\; Noble Booksellers.<br />\n<br />\nDuring each concert\, Hillside Village will recognize a different local nonprofit organization with a monetary donation\, as well as hosting an in-kind donation drive. Concert attendees are encouraged to bring an item requested by the featured nonprofit.</p>\n
LOCATION:Hillside Village
UID:e.1426.17779
SEQUENCE:3
DTSTAMP:20260423T233736Z
URL:https://www.cedarhillchamber.org/events/details/jam-to-give-fingerprints-benefiting-friends-of-zula-b-library-17779
END:VEVENT

END:VCALENDAR
