BEGIN:VCALENDAR
VERSION:2.0
PRODID:-//ChamberMaster//Event Calendar 2.0//EN
METHOD:PUBLISH
X-PUBLISHED-TTL:P3D
REFRESH-INTERVAL:P3D
CALSCALE:GREGORIAN
BEGIN:VEVENT
DTSTART:20240727T000000Z
DTEND:20240727T020000Z
X-MICROSOFT-CDO-ALLDAYEVENT:FALSE
SUMMARY:Jam To Give - Downtown Fever benefiting CHISD Cedar Hill Education Foundation
DESCRIPTION:07/26/2024 | 7PM   9PM\n\nPresenting: Downtown Fever presented by Emerald City Bands is not your average party band. This high energy group is comprised of the most talented musicians Dallas has to offer.\n\nBenefits: Cedar Hill ISD Education Foundation\n\nDonations Items: School supplies & uniforms   Red\, black\, or white polo shirts & black/khaki pants\n\nHillside Village will present its annual JAM to Give summer concert series on Fridays\, July 5 through July 28 from 7 p.m. to 9 p.m. The concerts are free to the public and will be held at the Village Green\, located directly across from Barnes & Noble Booksellers. Please bring your chair and remember we ask that you do not bring coolers or outside food in the event. We are excited to have Treat Yourself food truck here at Hillside Village during Jam to Give!\n\nDuring each concert\, Hillside Village will recognize a different local nonprofit organization with a monetary donation\, as well as hosting an in-kind donation drive. Jam to Give concert attendees are encouraged to bring an item requested by the featured nonprofit organization or $5 donation per attendee.
X-ALT-DESC;FMTTYPE=text/html:<p>07/26/2024 | 7PM &ndash\; 9PM</p>\n\n<p>Presenting:&nbsp\;<a href="https://ecbands.com/downtown-fever/" style="box-sizing: inherit\; background-color: transparent\; text-decoration-line: none\; line-height: inherit\; cursor: pointer\; box-shadow: none\; border: none\; padding: 0px\; color: rgb(34\, 34\, 34) !important\;"><em><strong>Downtown Fever presented by Emerald City Bands</strong></em></a>&nbsp\;is not your average party band. This high energy group is comprised of the most talented musicians Dallas has to offer.</p>\n\n<p><strong><em>Benefits:&nbsp\;</em></strong><strong><em><a href="https://www.chisd.net/chef" style="box-sizing: inherit\; background-color: transparent\; text-decoration-line: none\; line-height: inherit\; cursor: pointer\; box-shadow: none\; border: none\; padding: 0px\; color: rgb(34\, 34\, 34) !important\;">Cedar Hill ISD Education Foundation</a></em></strong></p>\n\n<p><strong><em>Donations Items:</em></strong>&nbsp\;<strong>School supplies &amp\; uniforms &ndash\; Red\, black\, or white polo shirts &amp\; black/khaki pants</strong></p>\n\n<p>Hillside Village will present its annual JAM to Give summer concert series on Fridays\, July 5 through July 28 from 7 p.m. to 9 p.m. The concerts are free to the public and will be held at the Village Green\, located directly across from<a href="https://stores.barnesandnoble.com/store/2305" style="box-sizing: inherit\; background-color: transparent\; text-decoration-line: none\; line-height: inherit\; cursor: pointer\; box-shadow: none\; border: none\; padding: 0px\; color: rgb(34\, 34\, 34) !important\;">&nbsp\;</a>Barnes &amp\; Noble Booksellers<a href="https://stores.barnesandnoble.com/store/2305" style="box-sizing: inherit\; background-color: transparent\; text-decoration-line: none\; line-height: inherit\; cursor: pointer\; box-shadow: none\; border: none\; padding: 0px\; color: rgb(34\, 34\, 34) !important\;">.</a>&nbsp\;Please bring your chair and remember we ask that you do not bring coolers or outside food in the event. We are excited to have&nbsp\;<em><a href="https://www.facebook.com/TYdesserts/" style="box-sizing: inherit\; background-color: transparent\; text-decoration-line: none\; line-height: inherit\; cursor: pointer\; box-shadow: none\; border: none\; padding: 0px\; color: rgb(34\, 34\, 34) !important\;"><strong>Treat Yourself food truck</strong></a></em>&nbsp\;here at Hillside Village during Jam to Give!</p>\n\n<p>During each concert\,&nbsp\;<a href="https://shophillsidevillage.com/" style="background-color: transparent\; box-sizing: inherit\; text-decoration-line: none\; line-height: inherit\; cursor: pointer\; box-shadow: none\; border: none\; padding: 0px\; color: rgb(34\, 34\, 34) !important\;"><strong><em>Hillside Village</em></strong></a>&nbsp\;will recognize a different local nonprofit organization with a monetary donation\, as well as hosting an in-kind donation drive. Jam to Give concert attendees are encouraged to bring an item requested by the featured nonprofit organization or $5 donation per attendee.</p>\n
LOCATION:Hillside Village
UID:e.1426.19901
SEQUENCE:3
DTSTAMP:20260423T125554Z
URL:https://www.cedarhillchamber.org/events/details/jam-to-give-downtown-fever-benefiting-chisd-cedar-hill-education-foundation-19901
END:VEVENT

END:VCALENDAR
