BEGIN:VCALENDAR
VERSION:2.0
PRODID:-//ChamberMaster//Event Calendar 2.0//EN
METHOD:PUBLISH
X-PUBLISHED-TTL:P3D
REFRESH-INTERVAL:P3D
CALSCALE:GREGORIAN
BEGIN:VEVENT
DTSTART:20211030T150000Z
DTEND:20211030T163000Z
X-MICROSOFT-CDO-ALLDAYEVENT:FALSE
SUMMARY:Insurance Got You Spooked?
DESCRIPTION:Southwest Dallas County Alumnae Chapter's Economic Development Committee Presents...\n\nInsurance Got You Spooked?\n\nNo tricks here!!!! Treat yourself to a better understanding of insurance and financial planning.\n\nAttend this virtual workshop to find out more!\n\nGuest Speaker: Cassandra Preston\, a State Farm Agent with over 20 years of experience.
X-ALT-DESC;FMTTYPE=text/html:Southwest Dallas County Alumnae Chapter&#39\;s Economic Development Committee Presents...<br />\nInsurance Got You Spooked?<br />\nNo tricks here!!!! Treat yourself to a better understanding of insurance and financial planning.<br />\nAttend this virtual workshop to find out more!<br />\nGuest Speaker: Cassandra Preston\, a State Farm Agent with over 20 years of experience.
LOCATION:Virtual
UID:e.1426.17067
SEQUENCE:3
DTSTAMP:20260424T160416Z
URL:https://www.cedarhillchamber.org/events/details/insurance-got-you-spooked-17067
END:VEVENT

END:VCALENDAR
