BEGIN:VCALENDAR
VERSION:2.0
PRODID:-//ChamberMaster//Event Calendar 2.0//EN
METHOD:PUBLISH
X-PUBLISHED-TTL:P3D
REFRESH-INTERVAL:P3D
CALSCALE:GREGORIAN
BEGIN:VEVENT
DTSTART:20191220T133000Z
DTEND:20191220T143000Z
X-MICROSOFT-CDO-ALLDAYEVENT:FALSE
SUMMARY:Innovative Training Meeting
DESCRIPTION:The Innovative Training Committee meets virtually. Below is the information for joining the sessions. \n\nIf you are not a part of the Innovative Training Committee but wish to join\, please email admin@cedarhillchamber.org\n\n\n\nPlease download and import the following iCalendar (.ics) files to your calendar system: Monthly Calendar Meeting Link\n\n \n\nJoin Zoom Meeting\n\n \n\nOne tap mobile\n\n+14086380968\,\,399627217# US (San Jose)\n\n+17207072699\,\,399627217# US\n\n \n\nDial by your location\n\n        +1 408 638 0968 US (San Jose)\n\n        +1 720 707 2699 US\n\n        +1 646 558 8656 US (New York)\n\nMeeting ID: 399 627 217
X-ALT-DESC;FMTTYPE=text/html:<div style="caret-color: rgb(34\, 34\, 34)\; color: rgb(34\, 34\, 34)\; font-family: Arial\, Helvetica\, sans-serif\; text-size-adjust: auto\;">The <strong>Innovative Training Committee</strong> meets virtually. Below is the information for joining the sessions.&nbsp\;<br />\nIf you are not a part of the Innovative Training Committee but wish to join\, please email <strong>admin@cedarhillchamber.org</strong><br />\n<br />\nPlease download and import the following iCalendar (.ics) files to your calendar system:&nbsp\;<span style="background-color: rgb(255\, 251\, 0)\;"><a href="https://zoom.us/meeting/399627217/ics?icsToken=4b0f310d36615c376d1dbfcd3ffec8fcdb753cad18b9f6ff732bb70c46e4c173">Monthly Calendar Meeting Link</a></span></div>\n\n<div style="caret-color: rgb(34\, 34\, 34)\; color: rgb(34\, 34\, 34)\; font-family: Arial\, Helvetica\, sans-serif\; text-size-adjust: auto\;">&nbsp\;</div>\n\n<div style="caret-color: rgb(34\, 34\, 34)\; color: rgb(34\, 34\, 34)\; font-family: Arial\, Helvetica\, sans-serif\; text-size-adjust: auto\;"><a href="https://zoom.us/j/399627217"><span style="background-color: rgb(255\, 251\, 0)\;">Join Zoom Meeting</span></a></div>\n\n<div style="caret-color: rgb(34\, 34\, 34)\; color: rgb(34\, 34\, 34)\; font-family: Arial\, Helvetica\, sans-serif\; text-size-adjust: auto\;">&nbsp\;</div>\n\n<div style="caret-color: rgb(34\, 34\, 34)\; color: rgb(34\, 34\, 34)\; font-family: Arial\, Helvetica\, sans-serif\; text-size-adjust: auto\;"><span style="background-color: rgb(255\, 251\, 0)\;">One tap mobile</span></div>\n\n<div style="caret-color: rgb(34\, 34\, 34)\; color: rgb(34\, 34\, 34)\; font-family: Arial\, Helvetica\, sans-serif\; text-size-adjust: auto\;">+14086380968\,\,399627217# US (San Jose)</div>\n\n<div style="caret-color: rgb(34\, 34\, 34)\; color: rgb(34\, 34\, 34)\; font-family: Arial\, Helvetica\, sans-serif\; text-size-adjust: auto\;">+17207072699\,\,399627217# US</div>\n\n<div style="caret-color: rgb(34\, 34\, 34)\; color: rgb(34\, 34\, 34)\; font-family: Arial\, Helvetica\, sans-serif\; text-size-adjust: auto\;">&nbsp\;</div>\n\n<div style="caret-color: rgb(34\, 34\, 34)\; color: rgb(34\, 34\, 34)\; font-family: Arial\, Helvetica\, sans-serif\; text-size-adjust: auto\;"><span style="background-color: rgb(255\, 251\, 0)\;">Dial by your location</span></div>\n\n<div style="caret-color: rgb(34\, 34\, 34)\; color: rgb(34\, 34\, 34)\; font-family: Arial\, Helvetica\, sans-serif\; text-size-adjust: auto\;">&nbsp\; &nbsp\; &nbsp\; &nbsp\; +1 408 638 0968 US (San Jose)</div>\n\n<div style="caret-color: rgb(34\, 34\, 34)\; color: rgb(34\, 34\, 34)\; font-family: Arial\, Helvetica\, sans-serif\; text-size-adjust: auto\;">&nbsp\; &nbsp\; &nbsp\; &nbsp\; +1 720 707 2699 US</div>\n\n<div style="caret-color: rgb(34\, 34\, 34)\; color: rgb(34\, 34\, 34)\; font-family: Arial\, Helvetica\, sans-serif\; text-size-adjust: auto\;">&nbsp\; &nbsp\; &nbsp\; &nbsp\; +1 646 558 8656 US (New York)</div>\n\n<div style="caret-color: rgb(34\, 34\, 34)\; color: rgb(34\, 34\, 34)\; font-family: Arial\, Helvetica\, sans-serif\; text-size-adjust: auto\;">Meeting ID: 399 627 217</div>\n
LOCATION:Virtual Meeting
UID:e.1426.15466
SEQUENCE:3
DTSTAMP:20260426T031941Z
URL:https://www.cedarhillchamber.org/events/details/innovative-training-meeting-12-20-2019-15466
END:VEVENT

END:VCALENDAR
