BEGIN:VCALENDAR
VERSION:2.0
PRODID:-//ChamberMaster//Event Calendar 2.0//EN
METHOD:PUBLISH
X-PUBLISHED-TTL:P3D
REFRESH-INTERVAL:P3D
CALSCALE:GREGORIAN
BEGIN:VEVENT
DTSTART:20210630T180000Z
DTEND:20210630T190000Z
X-MICROSOFT-CDO-ALLDAYEVENT:FALSE
SUMMARY:Iniciar un Negocio en Texas
DESCRIPTION:Seminarios Web para Peque as Empresas  \n\nGobernaci n de Texas\n\nIniciar un Negocio en Texas\n\nEste mes\, el Equipo de Peque os Negocios de la Oficina del Gobernador\, organizara su primera serie de seminarios web en espa ol dirigidos a empresarios y propietarios de peque as empresas de Texas. A continuaci n\, presentamos una descripci n de los temas que se discutir n durante el evento. Lo invitamos a compartir esta invitaci n a quien considere pueda ser de su inter s.\n\n \n\nAcera de:\n\nTexas sigue siendo el mejor estado de los Estados Unidos para iniciar un negocio.  nase al Equipo de Peque os Negocios del Gobernador y a un panel de expertos en la materia mientras comparten los pasos iniciales para establecer y operar una empresa en el estado. El webinar destacar  fuentes clave de informaci n para emprendedores y recursos disponibles para ayudar a las peque as empresas a tener  xito. El evento proporcionar  informaci n\, asesoramiento oportuno y pr ctico sobre:\n\n\n	Elegir una estructura empresarial\n	Registrar una empresa o nombre comercial\n	Registrarse para pagos de impuestos\n	Permisos/licencias en Texas\n	D nde obtener ayuda y asesoramiento gratuitos\n\n\nEl evento contara con un grupo de expertos que compartir n informaci n relevante para iniciar un negocio en Texas.  Acomp  enos!\n\nExpertos:\n\n\n	Lisha Garcia\, Asesora Empresarial/de Negocios Senior\, Centro de Desarrollo para Peque os Negocios/Peque as Empresas\, UT San Antonio\n	Maricruz Martinez\, Especialista en Educaci n de Impuestos\, Contralor a de Cuentas P blicas de Texas\n	Kimberly Rodriguez\, Especialista en Asistencia a Empresas\, Desarrollo Econ mico & Turismo\, Oficina del Gobernador Greg Abbott
X-ALT-DESC;FMTTYPE=text/html:<h1 align="center" style="text-align: center\; margin-top: 0px\; margin-bottom: 15px\; line-height: 1.1\; font-weight: bold\; color: rgb(0\, 55\, 90)\; font-family: arial\, helvetica\, sans-serif\; font-size: 22px\;">Seminarios Web para Peque&ntilde\;as Empresas &mdash\;<br />\nGobernaci&oacute\;n de Texas</h1>\n\n<p align="center" style="text-align: center\; line-height: 1.4\; margin-top: 5px\; margin-bottom: 20px\; color: rgb(0\, 0\, 0)\; font-family: arial\, helvetica\, sans-serif\; font-size: 16px\;"><strong>Iniciar un Negocio en Texas</strong></p>\n\n<p style="line-height: 1.4\; margin-top: 5px\; margin-bottom: 20px\; color: rgb(0\, 0\, 0)\; font-family: arial\, helvetica\, sans-serif\; font-size: 16px\;">Este mes\, el Equipo de Peque&ntilde\;os Negocios de la Oficina del Gobernador\, organizara su primera serie de seminarios web en espa&ntilde\;ol dirigidos a empresarios y propietarios de peque&ntilde\;as empresas de Texas. A continuaci&oacute\;n\, presentamos una descripci&oacute\;n de los temas que se discutir&aacute\;n durante el evento. Lo invitamos a compartir esta invitaci&oacute\;n a quien considere pueda ser de su inter&eacute\;s.<br />\n&nbsp\;</p>\n\n<p style="line-height: 1.4\; margin-top: 5px\; margin-bottom: 20px\; color: rgb(0\, 0\, 0)\; font-family: arial\, helvetica\, sans-serif\; font-size: 16px\;"><strong>Acera de:</strong><br />\nTexas sigue siendo el mejor estado de los Estados Unidos para iniciar un negocio. &Uacute\;nase al Equipo de Peque&ntilde\;os Negocios del Gobernador y a un panel de expertos en la materia mientras comparten los pasos iniciales para establecer y operar una empresa en el estado. El webinar destacar&aacute\; fuentes clave de informaci&oacute\;n para emprendedores y recursos disponibles para ayudar a las peque&ntilde\;as empresas a tener &eacute\;xito. El evento proporcionar&aacute\; informaci&oacute\;n\, asesoramiento oportuno y pr&aacute\;ctico sobre:</p>\n\n<ul style="color: rgb(34\, 34\, 34)\; font-family: Roboto\, RobotoDraft\, Helvetica\, Arial\, sans-serif\; font-size: small\;">\n	<li style="margin-left: 15px\; line-height: 1.4\; margin-bottom: 7px\; color: rgb(0\, 0\, 0)\; font-family: arial\, helvetica\, sans-serif\; font-size: 16px\;">Elegir una estructura empresarial</li>\n	<li style="margin-left: 15px\; line-height: 1.4\; margin-bottom: 7px\; color: rgb(0\, 0\, 0)\; font-family: arial\, helvetica\, sans-serif\; font-size: 16px\;">Registrar una empresa o nombre comercial</li>\n	<li style="margin-left: 15px\; line-height: 1.4\; margin-bottom: 7px\; color: rgb(0\, 0\, 0)\; font-family: arial\, helvetica\, sans-serif\; font-size: 16px\;">Registrarse para pagos de impuestos</li>\n	<li style="margin-left: 15px\; line-height: 1.4\; margin-bottom: 7px\; color: rgb(0\, 0\, 0)\; font-family: arial\, helvetica\, sans-serif\; font-size: 16px\;">Permisos/licencias en Texas</li>\n	<li style="margin-left: 15px\; line-height: 1.4\; margin-bottom: 7px\; color: rgb(0\, 0\, 0)\; font-family: arial\, helvetica\, sans-serif\; font-size: 16px\;">D&oacute\;nde obtener ayuda y asesoramiento gratuitos</li>\n</ul>\n\n<p style="line-height: 1.4\; margin-top: 5px\; margin-bottom: 20px\; color: rgb(0\, 0\, 0)\; font-family: arial\, helvetica\, sans-serif\; font-size: 16px\;">El evento contara con un grupo de expertos que compartir&aacute\;n informaci&oacute\;n relevante para iniciar un negocio en Texas. &iexcl\;Acomp&aacute\;&ntilde\;enos!</p>\n\n<p style="line-height: 1.4\; margin-top: 5px\; margin-bottom: 20px\; color: rgb(0\, 0\, 0)\; font-family: arial\, helvetica\, sans-serif\; font-size: 16px\;"><strong>Expertos:</strong></p>\n\n<ul style="color: rgb(34\, 34\, 34)\; font-family: Roboto\, RobotoDraft\, Helvetica\, Arial\, sans-serif\; font-size: small\;">\n	<li style="margin-left: 15px\; line-height: 1.4\; margin-bottom: 7px\; color: rgb(0\, 0\, 0)\; font-family: arial\, helvetica\, sans-serif\; font-size: 16px\;"><strong>Lisha Garcia</strong>\, Asesora Empresarial/de Negocios Senior\, Centro de Desarrollo para Peque&ntilde\;os Negocios/Peque&ntilde\;as Empresas\, UT San Antonio</li>\n	<li style="margin-left: 15px\; line-height: 1.4\; margin-bottom: 7px\; color: rgb(0\, 0\, 0)\; font-family: arial\, helvetica\, sans-serif\; font-size: 16px\;"><strong>Maricruz Martinez</strong>\,&nbsp\;Especialista en Educaci&oacute\;n de Impuestos\,&nbsp\;Contralor&iacute\;a de Cuentas P&uacute\;blicas de Texas</li>\n	<li style="margin-left: 15px\; line-height: 1.4\; margin-bottom: 7px\; color: rgb(0\, 0\, 0)\; font-family: arial\, helvetica\, sans-serif\; font-size: 16px\;"><strong>Kimberly Rodriguez</strong>\, Especialista en Asistencia a Empresas\, Desarrollo Econ&oacute\;mico &amp\; Turismo\, Oficina del Gobernador Greg Abbott</li>\n</ul>\n
LOCATION:Webinar en L nea
UID:e.1426.16582
SEQUENCE:3
DTSTAMP:20260424T222513Z
URL:https://www.cedarhillchamber.org/events/details/iniciar-un-negocio-en-texas-16582
END:VEVENT

END:VCALENDAR
