BEGIN:VCALENDAR
VERSION:2.0
PRODID:-//ChamberMaster//Event Calendar 2.0//EN
METHOD:PUBLISH
X-PUBLISHED-TTL:P3D
REFRESH-INTERVAL:P3D
CALSCALE:GREGORIAN
BEGIN:VEVENT
DTSTART:20210504T190000Z
DTEND:20210504T200000Z
X-MICROSOFT-CDO-ALLDAYEVENT:FALSE
SUMMARY:How Businesses Obtain Credit Webinar
DESCRIPTION:Webinar Series: Financial Education Tuesdays\n\n\n\nJoin us for a financial education webinar series presented by PeopleFund and BBVA! In these webinars\, financial experts will provide information\, tips and resources to help you and your small business with your everyday finances and long-term financial goals.\n\n \n\nWe're kicking off the series during National Small Business Week with the first webinar: How Businesses Obtain Credit! In this webinar\, you'll learn the value of creditworthiness and how to maintain a good business credit score and discover the necessary documents for a business loan application.\n\n \n\nParticipants have a chance to win a $25 gift card!
X-ALT-DESC;FMTTYPE=text/html:<div style="color: rgb(0\, 0\, 0)\; font-family: Calibri\, Helvetica\, Arial\, sans-serif\; font-size: 14px\;"><span style="color: rgb(35\, 31\, 32)\; font-family: Calibri\, Helvetica\, Arial\, sans-serif\; font-size: 16px\; font-weight: 700\;">Webinar Series: Financial Education Tuesdays</span><br />\n<br />\n<span style="font-size: 16px\;">Join us for a financial education webinar series presented by PeopleFund and BBVA! In these webinars\, financial experts will provide information\, tips and resources to help you and your small business with your everyday finances and long-term financial goals.</span></div>\n\n<div style="color: rgb(0\, 0\, 0)\; font-family: Calibri\, Helvetica\, Arial\, sans-serif\; font-size: 14px\;">&nbsp\;</div>\n\n<div style="color: rgb(0\, 0\, 0)\; font-family: Calibri\, Helvetica\, Arial\, sans-serif\; font-size: 14px\;"><span style="font-size: 16px\;">We&#39\;re kicking off the series during National Small Business Week with the first webinar:&nbsp\;</span><a data-saferedirecturl="https://www.google.com/url?q=http://r20.rs6.net/tn.jsp?f%3D001IIfSI9CAeD6TtSGdYyQPvoNpJoRTS6492XjwH8G_DdMiZCw3O0opAjVXegJrV3lZ1PO1IQs0214r6qpBvVm1ye63jGjWg3GnId1WCCalQwSXKFu6HJVnwtBmppwlLuswOeteQMiaQEmBO6jQqU-PQTlyQNpYjyaY%26c%3DNBG2R8KG3NFtPFfSbxTtHl5nSTPFxJGHH6CWiUFtVyJGleIqH_P7Cw%3D%3D%26ch%3D2oG2TY6x4UI7admxedED7mhcXPAiN8vpX2HGd0CcYmPC6fNWnoLHwQ%3D%3D&amp\;source=gmail&amp\;ust=1619531769000000&amp\;usg=AFQjCNFmUjokTwH3gZJUyUP7UNVzrS4NcA" href="http://r20.rs6.net/tn.jsp?f=001IIfSI9CAeD6TtSGdYyQPvoNpJoRTS6492XjwH8G_DdMiZCw3O0opAjVXegJrV3lZ1PO1IQs0214r6qpBvVm1ye63jGjWg3GnId1WCCalQwSXKFu6HJVnwtBmppwlLuswOeteQMiaQEmBO6jQqU-PQTlyQNpYjyaY&amp\;c=NBG2R8KG3NFtPFfSbxTtHl5nSTPFxJGHH6CWiUFtVyJGleIqH_P7Cw==&amp\;ch=2oG2TY6x4UI7admxedED7mhcXPAiN8vpX2HGd0CcYmPC6fNWnoLHwQ==" rel="noopener noreferrer noreferrer" style="color: rgb(84\, 161\, 0)\; font-size: 16px\; font-weight: bold\; text-decoration-line: none\;" target="_blank">How Businesses Obtain Credit</a><span style="font-size: 16px\;">! In this webinar\, you&#39\;ll l</span><span style="font-size: 16px\; color: rgb(35\, 31\, 32)\;">earn the value of creditworthiness and how to maintain a good business credit score and discover the necessary documents for a business loan application.</span></div>\n\n<div style="color: rgb(0\, 0\, 0)\; font-family: Calibri\, Helvetica\, Arial\, sans-serif\; font-size: 14px\;">&nbsp\;</div>\n\n<div style="color: rgb(0\, 0\, 0)\; font-family: Calibri\, Helvetica\, Arial\, sans-serif\; font-size: 14px\;"><span style="font-size: 16px\; color: rgb(35\, 31\, 32)\;">Participants have a chance to win a $25 gift card!</span></div>\n
LOCATION:
UID:e.1426.16503
SEQUENCE:3
DTSTAMP:20260424T223207Z
URL:https://www.cedarhillchamber.org/events/details/how-businesses-obtain-credit-webinar-16503
END:VEVENT

END:VCALENDAR
