BEGIN:VCALENDAR
VERSION:2.0
PRODID:-//ChamberMaster//Event Calendar 2.0//EN
METHOD:PUBLISH
X-PUBLISHED-TTL:P3D
REFRESH-INTERVAL:P3D
CALSCALE:GREGORIAN
BEGIN:VEVENT
DTSTART:20211202T233000Z
DTEND:20211203T023000Z
X-MICROSOFT-CDO-ALLDAYEVENT:FALSE
SUMMARY:Holiday on the Hill
DESCRIPTION:Celebrate the holiday season with us at the annual Holiday on the Hill celebration in Cedar Hill. There will be plenty of holiday kids activities and games\, live performances\, an ice rink\, photos with Santa\, a polar extreme obstacle course\, festive photo ops\, trackless train\, and the official lighting of the City of Cedar Hill tree. You don't want to miss this FREE family event!
X-ALT-DESC;FMTTYPE=text/html:Celebrate the holiday season with us at the annual Holiday on the Hill celebration in Cedar Hill. There will be plenty of holiday kids activities and games\, live performances\, an ice rink\, photos with Santa\, a polar extreme obstacle course\, festive photo ops\, trackless train\, and the official lighting of the City of Cedar Hill tree. You don&#39\;t want to miss this <strong>FREE</strong> family event!
LOCATION:Historic Downtown Cedar Hill
UID:e.1426.17091
SEQUENCE:3
DTSTAMP:20260424T111140Z
URL:https://www.cedarhillchamber.org/events/details/holiday-on-the-hill-17091
END:VEVENT

END:VCALENDAR
