BEGIN:VCALENDAR
VERSION:2.0
PRODID:-//ChamberMaster//Event Calendar 2.0//EN
METHOD:PUBLISH
X-PUBLISHED-TTL:P3D
REFRESH-INTERVAL:P3D
CALSCALE:GREGORIAN
BEGIN:VEVENT
DTSTART;VALUE=DATE:20191114
DTEND;VALUE=DATE:20191214
TRANSP:TRANSPARENT
X-MICROSOFT-CDO-ALLDAYEVENT:TRUE
SUMMARY:Holiday Give-a-thon @ Life School Cedar Hill
DESCRIPTION:Life School Cedar Hill is hosting a "3 in 1" giving event to support the students and families at Life School Cedar Hill.\n\n\n\n* Thanksgiving Baskets - collecting boxed/canned food items to be placed in baskets to support families during Thanksgiving  Nov 6-Nov 20\n\n\n\n* Winter Items - Collecting coats/gloves/hats to support students for winter weather.  Surplus items will be donated to a local community agency.  Nov. 6-Nov 20\n\n\n\n* Funds2Org - Collecting gently worn or new shoes   Nov 11-Dec 13
X-ALT-DESC;FMTTYPE=text/html:Life School Cedar Hill is hosting a &quot\;3 in 1&quot\; giving event to support the students and families at Life School Cedar Hill.<br />\n<br />\n* Thanksgiving Baskets - collecting boxed/canned food items to be placed in baskets to support families during Thanksgiving&nbsp\; Nov 6-Nov 20<br />\n<br />\n* Winter Items - Collecting coats/gloves/hats to support students for winter weather.&nbsp\; <em>Surplus items will be donated to a local community agency.&nbsp\;&nbsp\;</em>Nov. 6-Nov 20<br />\n<br />\n* Funds2Org - Collecting gently worn or new shoes&nbsp\; &nbsp\;Nov 11-Dec 13<br />\n&nbsp\;
LOCATION:Life School Cedar Hill Drop Off Location 129 W Wintergreen Rd.\, Cedar Hill\, TX
UID:e.1426.15698
SEQUENCE:3
DTSTAMP:20260426T032920Z
URL:https://www.cedarhillchamber.org/events/details/holiday-give-a-thon-life-school-cedar-hill-15698
END:VEVENT

END:VCALENDAR
