BEGIN:VCALENDAR
VERSION:2.0
PRODID:-//ChamberMaster//Event Calendar 2.0//EN
METHOD:PUBLISH
X-PUBLISHED-TTL:P3D
REFRESH-INTERVAL:P3D
CALSCALE:GREGORIAN
BEGIN:VEVENT
DTSTART:20230513T140000Z
DTEND:20230513T145000Z
X-MICROSOFT-CDO-ALLDAYEVENT:FALSE
SUMMARY:HillsideFIT
DESCRIPTION:Spring back into fitness with Hillside FIT on Saturday mornings during May & June at 9AM!  Free fitness classes featuring a variety of fitness programs to meet everyone's needs.  See you on the Village Green. \n\nMAY | 9AM - 9:50AM\n\nHillside Village welcomes Choose Again Yoga from Duncanville\, Texas to kick off our Spring series of Hillside FIT! A specialty Yogo studio for beginners\, offering Yoga for Rookies\, Barre/Floor Pilates\, Hot Yoga and more  Join them on Saturday mornings in the Village Green. \n\nSign up to join the Hillside Village's Newsletter and receive a complimentary sweat towel*\, at event only.*While supplies last\n\nJUNE | 9AM - 9:50AM\n\nAll-time favorite fitness instructor\, Cassandra Pierson with Shake Body Dance Fitness kicks off our Fall series HillsideFIT! Shake Body Dance Fitness is a diverse dance workout which includes Hip-Hop\, Salsa\, Afrobeat\, Merengue and Cumbia. Dance those calories away on Saturday mornings in the Village Green at 9:00 am!\n\nSign up to join the Hillside Village's Newsletter and receive a complimentary sweat towel*\, at event only.\n\n*While supplies last\n\n\n\n\n\n*While supplies lasts\n\nIn the event of inclement weather\, this outdoor event will be cancelled.  For the most up-to-date information on events\, visit the Hillside Village website or follow the shopping center on Facebook\, Twitter\, and Instagram. Hillside Village Management can be reached at 972.637.6300.
X-ALT-DESC;FMTTYPE=text/html:<p><span style="font-size:14px">Spring back into fitness with Hillside FIT on Saturday mornings during May &amp\; June at 9AM!&nbsp\; Free fitness classes featuring a variety of fitness programs to meet everyone&#39\;s needs.&nbsp\; See you on the Village Green.&nbsp\;</span></p>\n\n<p><strong>MAY | 9AM - 9:50AM</strong></p>\n\n<p>Hillside Village welcomes&nbsp\;<strong><a href="https://www.chooseagainyoga.com/" style="box-sizing: inherit\; background-color: transparent\; text-decoration-line: none\; line-height: inherit\; cursor: pointer\; box-shadow: none\; border: none\; padding: 0px\; color: rgb(34\, 34\, 34) !important\;">Choose Again Yoga</a></strong>&nbsp\;from Duncanville\, Texas to kick off our Spring series of Hillside FIT! A specialty Yogo studio for beginners\, offering Yoga for Rookies\, Barre/Floor Pilates\, Hot Yoga and more&hellip\; Join them on Saturday mornings in the Village Green.&nbsp\;</p>\n\n<p>Sign up to join the Hillside Village&rsquo\;s Newsletter and receive a complimentary sweat towel*\, at event only.*While supplies last</p>\n\n<p><strong>JUNE | 9AM - 9:50AM</strong></p>\n\n<p>All-time favorite fitness instructor\, Cassandra Pierson with <a href="https://www.shakebodydance.com/">Shake Body Dance Fitness </a>kicks off our Fall series HillsideFIT!&nbsp\;<a href="https://www.shakebodydance.com/" style="box-sizing: inherit\; text-decoration-line: none\; line-height: inherit\; cursor: pointer\; box-shadow: none\; border: none\; padding: 0px\; color: rgb(34\, 34\, 34) !important\;">Shake Body Dance Fitness</a>&nbsp\;is a diverse dance workout which includes Hip-Hop\, Salsa\, Afrobeat\, Merengue and Cumbia. Dance those calories away on Saturday mornings in the Village Green at 9:00 am!</p>\n\n<p>Sign up to join the Hillside Village&rsquo\;s Newsletter and receive a complimentary sweat towel*\, at event only.</p>\n\n<p>*While supplies last</p>\n\n<p><br />\n<br />\n<span style="font-size:14px"><span style="background-color:rgb(255\, 255\, 255)\; color:rgb(51\, 51\, 51)\; font-family:times new roman">*While supplies lasts</span></span></p>\n\n<p><span style="font-family:times new roman"><span style="font-size:10px">In the event of inclement weather\, this outdoor event will be cancelled.&nbsp\; For the most up-to-date information on events\, visit the Hillside Village website or follow the shopping center on&nbsp\;<a href="https://www.facebook.com/shophillsidevillage" style="-webkit-font-smoothing: antialiased\; box-sizing: inherit\; background-color: transparent\; vertical-align: baseline\; font-family: sans-serif\; color: rgb(84\, 117\, 53)\; text-decoration-line: none\;">Facebook</a>\,&nbsp\;<a href="https://twitter.com/shophillside" style="-webkit-font-smoothing: antialiased\; box-sizing: inherit\; background-color: transparent\; vertical-align: baseline\; font-family: sans-serif\; color: rgb(84\, 117\, 53)\; text-decoration-line: none\;">Twitter</a>\, and&nbsp\;<a href="https://www.instagram.com/shophillsidevillage" style="-webkit-font-smoothing: antialiased\; box-sizing: inherit\; background-color: transparent\; vertical-align: baseline\; font-family: sans-serif\; color: rgb(84\, 117\, 53)\; text-decoration-line: none\;">Instagram</a>. Hillside Village Management can be reached at 972.637.6300.</span></span></p>\n
LOCATION:Hillside Village | Village Green
UID:e.1426.18117
SEQUENCE:3
DTSTAMP:20260423T235828Z
URL:https://www.cedarhillchamber.org/events/details/hillsidefit-05-13-2023-18117
END:VEVENT

END:VCALENDAR
