BEGIN:VCALENDAR
VERSION:2.0
PRODID:-//ChamberMaster//Event Calendar 2.0//EN
METHOD:PUBLISH
X-PUBLISHED-TTL:P3D
REFRESH-INTERVAL:P3D
CALSCALE:GREGORIAN
BEGIN:VEVENT
DTSTART:20200916T160000Z
DTEND:20200916T180000Z
X-MICROSOFT-CDO-ALLDAYEVENT:FALSE
SUMMARY:Hearing All Voices with the IRS
DESCRIPTION:Hello partners\, Mark your calendars\, and join IRS representatives\, small business owners and partnering organizations during our "Hearing All Voices Small Business Workshop & Listening Session" on September 16\, 2020. During this meeting you will hear directly from IRS executive and other IRS employees to help your businesses succeed. After this meeting we hope you will share the information and resources with others. We look forward to having a conversation with you to help better serve the small businesses communities.
X-ALT-DESC;FMTTYPE=text/html:Hello partners\, Mark your calendars\, and join IRS representatives\, small business owners and partnering organizations during our &ldquo\;Hearing All Voices Small Business Workshop &amp\; Listening Session&rdquo\; on September 16\, 2020. During this meeting you will hear directly from IRS executive and other IRS employees to help your businesses succeed. After this meeting we hope you will share the information and resources with others. We look forward to having a conversation with you to help better serve the small businesses communities.
LOCATION:Use this registration link https://pvpanther.zoom.us/webinar/register/WN_hVEitRmsRXGqA1O1Wn8ubw
UID:e.1426.16159
SEQUENCE:3
DTSTAMP:20260425T115426Z
URL:https://www.cedarhillchamber.org/events/details/hearing-all-voices-with-the-irs-16159
END:VEVENT

END:VCALENDAR
