BEGIN:VCALENDAR
VERSION:2.0
PRODID:-//ChamberMaster//Event Calendar 2.0//EN
METHOD:PUBLISH
X-PUBLISHED-TTL:P3D
REFRESH-INTERVAL:P3D
CALSCALE:GREGORIAN
BEGIN:VEVENT
DTSTART;VALUE=DATE:20230506
DTEND;VALUE=DATE:20230507
TRANSP:TRANSPARENT
X-MICROSOFT-CDO-ALLDAYEVENT:TRUE
SUMMARY:Head for the Hills Bike Rally
DESCRIPTION:The Cedar Hill Rotary Club of Texas presents the 15th annual "Head for the Hills" Bicycle Rally at Hillside Village.  Are you registered?  Register today at https://bit.ly/3mGyagF
X-ALT-DESC;FMTTYPE=text/html:The Cedar Hill Rotary Club of Texas presents the 15th annual &quot\;Head for the Hills&quot\; Bicycle Rally at Hillside Village.&nbsp\; Are you registered?&nbsp\; Register today at&nbsp\;<span style="background-color:#99ff99">https://bit.ly/3mGyagF&nbsp\;</span>
LOCATION:HILLSIDE VILLAGE
UID:e.1426.18124
SEQUENCE:3
DTSTAMP:20260424T000748Z
URL:https://www.cedarhillchamber.org/events/details/head-for-the-hills-bike-rally-18124
END:VEVENT

END:VCALENDAR
