BEGIN:VCALENDAR
VERSION:2.0
PRODID:-//ChamberMaster//Event Calendar 2.0//EN
METHOD:PUBLISH
X-PUBLISHED-TTL:P3D
REFRESH-INTERVAL:P3D
CALSCALE:GREGORIAN
BEGIN:VEVENT
DTSTART:20210629T210000Z
DTEND:20210629T220000Z
X-MICROSOFT-CDO-ALLDAYEVENT:FALSE
SUMMARY:Grow with Google: Reach Customers Online with Google part 1
DESCRIPTION:Learn how to reach customers and target your audience with USBC and Grow with Google!\n\n\n\n\n\n\nAbout this event\n\n\n\nLearn how your business can be found online with Google. This workshop explains how Google Search works and how you can improve a website's visibility with Search Engine Optimization (SEO). The session also introduces products like Google My Business\, Google Trends\, Search Console\, Google Analytics\, Google Ads\, and more.\n\n\n\nThe New Normal: A Digital Marketing Webinar Series\n\nA five-month digital marketing webinar series presented by The U.S. Black Chambers\, Inc.\, will cover all aspects of digital marketing.\n\nTo thrive in this post-COVID-19 economy\, your business must fully embrace digital marketing. The New Normal webinar series\, led by digital marketing expert Sterling McKinley\, will teach you how to use digital marketing to reach new customers\, increase sales\, and be more competitive.\n\nIn this interactive and hands-on webinar series\, we stay away from boring PowerPoint slides and boilerplate information. We'll dive into digital marketing and answer your most pressing questions\, sharing the best tips and secrets.\n\nStarting June and continuing through October\, our upcoming digital marketing webinar series will be held every Tuesday and Thursday at 5 pm and will feature an array of digital marketing modules to help your small business grow online.\n\nFor more information\, email us at programs@usblackchambers.org or visit https://usblackchambers.org/grow-with-google/
X-ALT-DESC;FMTTYPE=text/html:<div class="g-group l-lg-mar-bot-6 l-md-mar-bot-4  " style="margin: 0px 0px 30px\; padding: 0px\; font-size: 0px\; letter-spacing: 0px\; color: rgb(57\, 54\, 79)\; font-family: &quot\;Neue Plak&quot\;\, -apple-system\, BlinkMacSystemFont\, Roboto\, &quot\;Helvetica Neue&quot\;\, Helvetica\, Tahoma\, Arial\, sans-serif\;">\n<div class="g-cell g-cell-10-12 g-cell-md-1-1" style="margin: 0px\; padding: 0px 15px\; width: 560px\; box-sizing: border-box\; display: inline-block\; overflow: hidden\; vertical-align: top\; letter-spacing: 0.5px\; font-size: 0.933333rem\; line-height: 1.25rem\;">\n<div class="has-user-generated-content" style="margin: 0px\; padding: 0px\;">\n<div class="text-body-medium" data-automation="listing-event-description" style="margin: 0px\; padding: 0px\; font-size: 0.933333rem\; line-height: 1.25rem\;"><span style="font-weight: 700\; padding-top: 0px\;">Learn how to reach customers and target your audience with USBC and Grow with Google!</span></div>\n</div>\n</div>\n</div>\n\n<div class="g-group l-mar-bot-6 l-sm-mar-bot-4" style="margin: 0px 0px 30px\; padding: 0px\; font-size: 0px\; letter-spacing: 0px\; color: rgb(57\, 54\, 79)\; font-family: &quot\;Neue Plak&quot\;\, -apple-system\, BlinkMacSystemFont\, Roboto\, &quot\;Helvetica Neue&quot\;\, Helvetica\, Tahoma\, Arial\, sans-serif\;">\n<div class="structured-content g-cell g-cell-10-12 g-cell-md-1-1" style="margin: 0px\; padding: 0px 15px\; width: 560px\; box-sizing: border-box\; display: inline-block\; overflow: hidden\; vertical-align: top\; letter-spacing: 0.5px\; font-size: 0.933333rem\; line-height: 1.25rem\;">\n<h2 class="text-body-large hide-small" style="margin: 0px -0.25px 0px 0px\; padding: 0px\; font-weight: 600\; font-size: 1.2rem\; line-height: 1.5rem\; letter-spacing: 0.25px\;">About this event</h2>\n\n<div class="has-user-generated-content" data-automation="about-this-event-sc" style="margin: 0px\; padding: 0px\;">\n<div class="structured-content-rich-text structured-content__module l-align-left l-mar-vert-6 l-sm-mar-vert-4 text-body-medium" style="margin: 30px 0px\; padding: 0px\; font-size: 0.933333rem\; line-height: 1.25rem\; text-rendering: optimizelegibility\;">\n<p style="margin: 0px\; padding: 0px\; color: rgb(111\, 114\, 135)\; font-size: 16px\; line-height: 1.5rem\;">Learn how your business can be found online with Google. This workshop explains how Google Search works and how you can improve a website&#39\;s visibility with Search Engine Optimization (SEO). The session also introduces products like Google My Business\, Google Trends\, Search Console\, Google Analytics\, Google Ads\, and more.</p>\n</div>\n\n<div class="structured-content-rich-text structured-content__module l-align-left l-mar-vert-6 l-sm-mar-vert-4 text-body-medium" style="margin: 30px 0px\; padding: 0px\; font-size: 0.933333rem\; line-height: 1.25rem\; text-rendering: optimizelegibility\;">\n<p style="margin: 0px\; padding: 0px\; color: rgb(111\, 114\, 135)\; font-size: 16px\; line-height: 1.5rem\;"><span style="font-weight: 700\; padding-top: 0px\;">The New Normal: A Digital Marketing Webinar Series</span></p>\n\n<p style="margin: 0px\; padding: 10px 0px 0px\; color: rgb(111\, 114\, 135)\; font-size: 16px\; line-height: 1.5rem\;">A five-month digital marketing webinar series presented by The U.S. Black Chambers\, Inc.\, will cover all aspects of digital marketing.</p>\n\n<p style="margin: 0px\; padding: 10px 0px 0px\; color: rgb(111\, 114\, 135)\; font-size: 16px\; line-height: 1.5rem\;">To thrive in this post-COVID-19 economy\, your business must fully embrace digital marketing. The New Normal webinar series\, led by digital marketing expert Sterling McKinley\, will teach you how to use digital marketing to reach new customers\, increase sales\, and be more competitive.</p>\n\n<p style="margin: 0px\; padding: 10px 0px 0px\; color: rgb(111\, 114\, 135)\; font-size: 16px\; line-height: 1.5rem\;">In this interactive and hands-on webinar series\, we stay away from boring PowerPoint slides and boilerplate information. We&#39\;ll dive into digital marketing and answer your most pressing questions\, sharing the best tips and secrets.</p>\n\n<p style="margin: 0px\; padding: 10px 0px 0px\; color: rgb(111\, 114\, 135)\; font-size: 16px\; line-height: 1.5rem\;">Starting June and continuing through October\, our upcoming digital marketing webinar series will be held every Tuesday and Thursday at 5 pm and will feature an array of digital marketing modules to help your small business grow online.</p>\n\n<p style="margin: 0px\; padding: 10px 0px 0px\; color: rgb(111\, 114\, 135)\; font-size: 16px\; line-height: 1.5rem\;"><span style="font-weight: 700\; padding-top: 0px\;">For more information\, email us at programs@usblackchambers.org or visit&nbsp\;</span><a href="https://usblackchambers.org/grow-with-google/" rel="nofollow noopener noreferrer" style="color: var(--eds-control\,#3659e3)\; text-decoration-line: none\; cursor: pointer\; background-color: transparent\;" target="_blank"><span style="font-weight: 700\; padding-top: 0px\;">https://usblackchambers.org/grow-with-google/</span></a></p>\n</div>\n</div>\n</div>\n</div>\n
LOCATION:Online
UID:e.1426.16578
SEQUENCE:3
DTSTAMP:20260424T222651Z
URL:https://www.cedarhillchamber.org/events/details/grow-with-google-reach-customers-online-with-google-part-1-16578
END:VEVENT

END:VCALENDAR
