BEGIN:VCALENDAR
VERSION:2.0
PRODID:-//ChamberMaster//Event Calendar 2.0//EN
METHOD:PUBLISH
X-PUBLISHED-TTL:P3D
REFRESH-INTERVAL:P3D
CALSCALE:GREGORIAN
BEGIN:VEVENT
DTSTART:20220303T190000Z
DTEND:20220303T200000Z
X-MICROSOFT-CDO-ALLDAYEVENT:FALSE
SUMMARY:Goldman Sachs 10\,000 Small Businesses Virtual Informational
DESCRIPTION:The Goldman Sachs 10\,000 Small Business-Dallas College site is now taking \n\napplications for our Fall cohort (September 2022). \n\n\n\n\nAre you looking to grow and strengthen your small business but don't have the \n\nresources you need? Do you want practical knowledge and one-on-one advice \n\nto take your business to the next level? \n\n \n\n\n\nJoin the ranks of our North Texas region's growth-oriented businesses by applying \n\nto the Goldman Sachs 10\,000 Small Businesses program. Over 10\,000 businesses \n\nhave taken the program\, growing revenues by an average of 66% within 6 months \n\nof their graduation. \n\n \n\n\n\n10\,000 Small Businesses give entrepreneurs like you access to practical business \n\neducation\, covering negotiations\, marketing\, financial acumen\, and more. In addition\, \n\nyou will receive the tools and professional support to develop a strategic and customized \n\ngrowth plan that will take your business to the next level. \n\n \n\n\n\nDallas College is one of twenty sites nationally to offer this best-in-class program \n\ndesigned by Babson College\, the nation's leading entrepreneurship school. \n\n \n\n\n\nIf you are selected\, you will receive a full scholarship to participate at no cost to you. \n\n\n\n \n\nApply online today to take advantage of this opportunity to grow your business! \n\n\n\n \n\n\n\nTo learn more about the program or apply\, visit www.10KSBapply.com or call the \n\n10\,000 Small Businesses team at (214) 860-5928. \n\n \n\nRegister for an upcoming informational session to learn about the program. \n\n\n\n \n\nYou can choose to attend one or both of the following sessions.\n\n \n\n\n\nMarch 3 at 1:00 pm \n\n\n\nMarch 24 at 1:00 pm\n\n\n\n \n\n\n\n \n\nRegister here: bit.ly/3LvwLRR
X-ALT-DESC;FMTTYPE=text/html:<div style="font-family: Calibri\, Arial\, Helvetica\, sans-serif\; font-size: 12pt\; color: black\; margin: 0px\;">\n<p style="margin: 0px\; font-family: &quot\;Segoe UI&quot\;\, &quot\;Segoe UI Web&quot\;\, Arial\, Verdana\, sans-serif\; font-size: 12px\; color: windowtext\;"><span lang="en-US" style="margin: 0px\; font-weight: bold\; font-size: 11pt\; line-height: 19px\; font-family: Verdana\, Verdana_EmbeddedFont\, Verdana_MSFontService\, sans-serif\; font-variant-ligatures: none !important\;"><span style="margin: 0px\; line-height: normal\;">The Goldman Sachs</span><span style="margin: 0px\;"><span style="margin: 0px\; line-height: normal\;">&nbsp\;</span></span></span><span lang="en-US" style="margin: 0px\; font-weight: bold\; font-size: 11pt\; line-height: 19px\; font-family: Verdana\, Verdana_EmbeddedFont\, Verdana_MSFontService\, sans-serif\; font-variant-ligatures: none !important\;"><span style="margin: 0px\; line-height: normal\;">10\,000 Small Business</span></span><span lang="en-US" style="margin: 0px\; font-weight: bold\; font-size: 11pt\; line-height: 19px\; font-family: Verdana\, Verdana_EmbeddedFont\, Verdana_MSFontService\, sans-serif\; font-variant-ligatures: none !important\;"><span style="margin: 0px\; line-height: normal\;">-Dallas College site is now taking&nbsp\;</span></span></p>\n\n<p style="margin: 0px\; font-family: &quot\;Segoe UI&quot\;\, &quot\;Segoe UI Web&quot\;\, Arial\, Verdana\, sans-serif\; font-size: 12px\; color: windowtext\;"><span lang="en-US" style="margin: 0px\; font-weight: bold\; font-size: 11pt\; line-height: 19px\; font-family: Verdana\, Verdana_EmbeddedFont\, Verdana_MSFontService\, sans-serif\; font-variant-ligatures: none !important\;"><span style="margin: 0px\; line-height: normal\;">applications for our</span><span style="margin: 0px\;"><span style="margin: 0px\; line-height: normal\;">&nbsp\;</span></span></span><span lang="en-US" style="margin: 0px\; font-weight: bold\; font-size: 11pt\; line-height: 19px\; font-family: Verdana\, Verdana_EmbeddedFont\, Verdana_MSFontService\, sans-serif\; font-variant-ligatures: none !important\;"><span style="margin: 0px\; line-height: normal\;">Fall</span></span><span lang="en-US" style="margin: 0px\; font-weight: bold\; font-size: 11pt\; line-height: 19px\; font-family: Verdana\, Verdana_EmbeddedFont\, Verdana_MSFontService\, sans-serif\; font-variant-ligatures: none !important\;"><span style="margin: 0px\;"><span style="margin: 0px\; line-height: normal\;">&nbsp\;</span></span><span style="margin: 0px\; line-height: normal\;">cohort</span></span><span lang="en-US" style="margin: 0px\; font-weight: bold\; font-size: 11pt\; line-height: 19px\; font-family: Verdana\, Verdana_EmbeddedFont\, Verdana_MSFontService\, sans-serif\; font-variant-ligatures: none !important\;"><span style="margin: 0px\;"><span style="margin: 0px\; line-height: normal\;">&nbsp\;</span></span><span style="margin: 0px\; line-height: normal\;">(September 2022)</span></span><span lang="en-US" style="margin: 0px\; font-weight: bold\; font-size: 11pt\; line-height: 19px\; font-family: Verdana\, Verdana_EmbeddedFont\, Verdana_MSFontService\, sans-serif\; font-variant-ligatures: none !important\;"><span style="margin: 0px\; line-height: normal\;">.</span></span><span style="margin: 0px\; font-size: 11pt\; line-height: 19px\; font-family: WordVisiCarriageReturn_MSFontService\, Verdana\, Verdana_EmbeddedFont\, Verdana_MSFontService\, sans-serif\;"><span style="margin: 0px\; line-height: normal\;">&nbsp\;</span></span></p>\n</div>\n\n<div style="color: rgb(34\, 34\, 34)\; font-family: Calibri\, Arial\, Helvetica\, sans-serif\; font-size: 12pt\; margin: 0px\;">\n<div style="color: rgba(0\, 0\, 0\, 0.85)\; margin: 0px\; font-size: 12px\; font-family: &quot\;Segoe UI&quot\;\, &quot\;Segoe UI Web&quot\;\, Arial\, Verdana\, sans-serif\; clear: both\;">\n<p style="margin: 0px\; color: windowtext\;"><span lang="en-US" style="margin: 0px\; font-size: 11pt\; line-height: 19px\; font-family: Verdana\, Verdana_EmbeddedFont\, Verdana_MSFontService\, sans-serif\; font-variant-ligatures: none !important\;"><span style="margin: 0px\; font-size: 11pt\; line-height: normal\;">Are you looking to grow and strengthen your small business but don&#39\;t have the&nbsp\;</span></span></p>\n\n<p style="margin: 0px\; color: windowtext\;"><span lang="en-US" style="margin: 0px\; font-size: 11pt\; line-height: 19px\; font-family: Verdana\, Verdana_EmbeddedFont\, Verdana_MSFontService\, sans-serif\; font-variant-ligatures: none !important\;"><span style="margin: 0px\; font-size: 11pt\; line-height: normal\;">resources you need? Do you want practical knowledge and one-on-one advice&nbsp\;</span></span></p>\n\n<p style="margin: 0px\; color: windowtext\;"><span lang="en-US" style="margin: 0px\; font-size: 11pt\; line-height: 19px\; font-family: Verdana\, Verdana_EmbeddedFont\, Verdana_MSFontService\, sans-serif\; font-variant-ligatures: none !important\;"><span style="margin: 0px\; font-size: 11pt\; line-height: normal\;">to take your business to the next level?</span></span><span style="margin: 0px\; font-size: 11pt\; line-height: 19px\; font-family: WordVisiCarriageReturn_MSFontService\, Verdana\, Verdana_EmbeddedFont\, Verdana_MSFontService\, sans-serif\;"><span style="margin: 0px\; font-size: 11pt\; line-height: normal\;">&nbsp\;</span></span><br />\n<span style="margin: 0px\; font-size: 11pt\; line-height: normal\; font-family: Verdana\, Verdana_EmbeddedFont\, Verdana_MSFontService\, sans-serif\;">&nbsp\;</span></p>\n</div>\n\n<div style="color: rgba(0\, 0\, 0\, 0.85)\; margin: 0px\; font-size: 12px\; font-family: &quot\;Segoe UI&quot\;\, &quot\;Segoe UI Web&quot\;\, Arial\, Verdana\, sans-serif\; clear: both\;">\n<p style="margin: 0px\; color: windowtext\;"><span lang="en-US" style="margin: 0px\; font-size: 11pt\; line-height: 19px\; font-family: Verdana\, Verdana_EmbeddedFont\, Verdana_MSFontService\, sans-serif\; font-variant-ligatures: none !important\;"><span style="margin: 0px\; font-size: 11pt\; line-height: normal\;">Join the ranks of our North Texas region&#39\;s growth-oriented businesses by applying&nbsp\;</span></span></p>\n\n<p style="margin: 0px\; color: windowtext\;"><span lang="en-US" style="margin: 0px\; font-size: 11pt\; line-height: 19px\; font-family: Verdana\, Verdana_EmbeddedFont\, Verdana_MSFontService\, sans-serif\; font-variant-ligatures: none !important\;"><span style="margin: 0px\; font-size: 11pt\; line-height: normal\;">to&nbsp\;</span></span><span lang="en-US" style="margin: 0px\; font-size: 11pt\; line-height: 19px\; font-family: Verdana\, Verdana_EmbeddedFont\, Verdana_MSFontService\, sans-serif\; font-variant-ligatures: none !important\;"><span style="margin: 0px\; font-size: 11pt\; line-height: normal\;">the Goldman Sachs&nbsp\;</span></span><span lang="en-US" style="margin: 0px\; font-size: 11pt\; line-height: 19px\; font-family: Verdana\, Verdana_EmbeddedFont\, Verdana_MSFontService\, sans-serif\; font-variant-ligatures: none !important\;"><span style="margin: 0px\; font-size: 11pt\; line-height: normal\;">10\,000 Small Businesses program</span></span><span lang="en-US" style="margin: 0px\; font-size: 11pt\; line-height: 19px\; font-family: Verdana\, Verdana_EmbeddedFont\, Verdana_MSFontService\, sans-serif\; font-variant-ligatures: none !important\;"><span style="margin: 0px\; font-size: 11pt\; line-height: normal\;">. Over 10\,000 businesses&nbsp\;</span></span></p>\n\n<p style="margin: 0px\; color: windowtext\;"><span lang="en-US" style="margin: 0px\; font-size: 11pt\; line-height: 19px\; font-family: Verdana\, Verdana_EmbeddedFont\, Verdana_MSFontService\, sans-serif\; font-variant-ligatures: none !important\;"><span style="margin: 0px\; font-size: 11pt\; line-height: normal\;">have&nbsp\;</span></span><span lang="en-US" style="margin: 0px\; font-size: 11pt\; line-height: 19px\; font-family: Verdana\, Verdana_EmbeddedFont\, Verdana_MSFontService\, sans-serif\; font-variant-ligatures: none !important\;"><span style="margin: 0px\; font-size: 11pt\; line-height: normal\;">taken the program\, growing revenues by an average of 66% within 6 months&nbsp\;</span></span></p>\n\n<p style="margin: 0px\; color: windowtext\;"><span lang="en-US" style="margin: 0px\; font-size: 11pt\; line-height: 19px\; font-family: Verdana\, Verdana_EmbeddedFont\, Verdana_MSFontService\, sans-serif\; font-variant-ligatures: none !important\;"><span style="margin: 0px\; font-size: 11pt\; line-height: normal\;">of their graduation.</span></span><span style="margin: 0px\; font-size: 11pt\; line-height: 19px\; font-family: WordVisiCarriageReturn_MSFontService\, Verdana\, Verdana_EmbeddedFont\, Verdana_MSFontService\, sans-serif\;"><span style="margin: 0px\; font-size: 11pt\; line-height: normal\;">&nbsp\;</span></span></p>\n\n<p style="margin: 0px\; color: windowtext\;"><span style="margin: 0px\; font-size: 11pt\; line-height: normal\; font-family: Verdana\, Verdana_EmbeddedFont\, Verdana_MSFontService\, sans-serif\;">&nbsp\;</span></p>\n</div>\n\n<div style="color: rgba(0\, 0\, 0\, 0.85)\; margin: 0px\; font-size: 12px\; font-family: &quot\;Segoe UI&quot\;\, &quot\;Segoe UI Web&quot\;\, Arial\, Verdana\, sans-serif\; clear: both\;">\n<p style="margin: 0px\; color: windowtext\;"><span lang="en-US" style="margin: 0px\; font-size: 11pt\; line-height: 19px\; font-family: Verdana\, Verdana_EmbeddedFont\, Verdana_MSFontService\, sans-serif\; font-variant-ligatures: none !important\;"><span style="margin: 0px\; font-size: 11pt\; line-height: normal\;">10\,000 Small Businesses</span></span><span lang="en-US" style="margin: 0px\; font-size: 11pt\; line-height: 19px\; font-family: Verdana\, Verdana_EmbeddedFont\, Verdana_MSFontService\, sans-serif\; font-variant-ligatures: none !important\;"><span style="margin: 0px\;"><span style="margin: 0px\; font-size: 11pt\; line-height: normal\;">&nbsp\;</span></span></span><span lang="en-US" style="margin: 0px\; font-size: 11pt\; line-height: 19px\; font-family: Verdana\, Verdana_EmbeddedFont\, Verdana_MSFontService\, sans-serif\; font-variant-ligatures: none !important\;"><span style="margin: 0px\; font-size: 11pt\; line-height: normal\;">give</span></span><span lang="en-US" style="margin: 0px\; font-size: 11pt\; line-height: 19px\; font-family: Verdana\, Verdana_EmbeddedFont\, Verdana_MSFontService\, sans-serif\; font-variant-ligatures: none !important\;"><span style="margin: 0px\;"><span style="margin: 0px\; font-size: 11pt\; line-height: normal\;">&nbsp\;</span></span><span style="margin: 0px\; font-size: 11pt\; line-height: normal\;">entrepreneurs like you access to practical business&nbsp\;</span></span></p>\n\n<p style="margin: 0px\; color: windowtext\;"><span lang="en-US" style="margin: 0px\; font-size: 11pt\; line-height: 19px\; font-family: Verdana\, Verdana_EmbeddedFont\, Verdana_MSFontService\, sans-serif\; font-variant-ligatures: none !important\;"><span style="margin: 0px\; font-size: 11pt\; line-height: normal\;">education\, covering negotiations\, marketing\, financial acumen\, and more. In addition\,&nbsp\;</span></span></p>\n\n<p style="margin: 0px\; color: windowtext\;"><span lang="en-US" style="margin: 0px\; font-size: 11pt\; line-height: 19px\; font-family: Verdana\, Verdana_EmbeddedFont\, Verdana_MSFontService\, sans-serif\; font-variant-ligatures: none !important\;"><span style="margin: 0px\; font-size: 11pt\; line-height: normal\;">you will receive the tools and professional support to develop a strategic and customized&nbsp\;</span></span></p>\n\n<p style="margin: 0px\; color: windowtext\;"><span lang="en-US" style="margin: 0px\; font-size: 11pt\; line-height: 19px\; font-family: Verdana\, Verdana_EmbeddedFont\, Verdana_MSFontService\, sans-serif\; font-variant-ligatures: none !important\;"><span style="margin: 0px\; font-size: 11pt\; line-height: normal\;">growth plan that will take your business to the next level.</span></span><span style="margin: 0px\; font-size: 11pt\; line-height: 19px\; font-family: WordVisiCarriageReturn_MSFontService\, Verdana\, Verdana_EmbeddedFont\, Verdana_MSFontService\, sans-serif\;"><span style="margin: 0px\; font-size: 11pt\; line-height: normal\;">&nbsp\;</span></span><br />\n<span style="margin: 0px\; font-size: 11pt\; line-height: normal\; font-family: Verdana\, Verdana_EmbeddedFont\, Verdana_MSFontService\, sans-serif\;">&nbsp\;</span></p>\n</div>\n\n<div style="color: rgba(0\, 0\, 0\, 0.85)\; margin: 0px\; font-size: 12px\; font-family: &quot\;Segoe UI&quot\;\, &quot\;Segoe UI Web&quot\;\, Arial\, Verdana\, sans-serif\; clear: both\;">\n<p style="margin: 0px\; color: windowtext\;"><span lang="en-US" style="margin: 0px\; font-size: 11pt\; line-height: 19px\; font-family: Verdana\, Verdana_EmbeddedFont\, Verdana_MSFontService\, sans-serif\; font-variant-ligatures: none !important\;"><span style="margin: 0px\; font-size: 11pt\; line-height: normal\;">Dallas College is one of twenty sites nationally to offer this best-in-class program&nbsp\;</span></span></p>\n\n<p style="margin: 0px\; color: windowtext\;"><span lang="en-US" style="margin: 0px\; font-size: 11pt\; line-height: 19px\; font-family: Verdana\, Verdana_EmbeddedFont\, Verdana_MSFontService\, sans-serif\; font-variant-ligatures: none !important\;"><span style="margin: 0px\; font-size: 11pt\; line-height: normal\;">designed by Babson College\, the nation&#39\;s leading entrepreneurship school.</span></span><span style="margin: 0px\; font-size: 11pt\; line-height: 19px\; font-family: WordVisiCarriageReturn_MSFontService\, Verdana\, Verdana_EmbeddedFont\, Verdana_MSFontService\, sans-serif\;"><span style="margin: 0px\; font-size: 11pt\; line-height: normal\;">&nbsp\;</span></span><br />\n<span style="margin: 0px\; font-size: 11pt\; line-height: normal\; font-family: Verdana\, Verdana_EmbeddedFont\, Verdana_MSFontService\, sans-serif\;">&nbsp\;</span></p>\n</div>\n\n<div style="color: rgba(0\, 0\, 0\, 0.85)\; margin: 0px\; font-size: 12px\; font-family: &quot\;Segoe UI&quot\;\, &quot\;Segoe UI Web&quot\;\, Arial\, Verdana\, sans-serif\; clear: both\;">\n<p style="margin: 0px\; color: windowtext\;"><span lang="en-US" style="font-size: 11pt\; line-height: 19px\; font-family: Verdana\, Verdana_EmbeddedFont\, Verdana_MSFontService\, sans-serif\; font-variant-ligatures: none !important\;"><span style="font-size: 11pt\; line-height: normal\;">If you are selected\, you will receive a full scholarship to participate at no cost to you.</span></span><span lang="en-US" style="font-size: 11pt\; line-height: 19px\; font-family: Verdana\, Verdana_EmbeddedFont\, Verdana_MSFontService\, sans-serif\; font-variant-ligatures: none !important\;"><span style="font-size: 11pt\; line-height: normal\;">&nbsp\;</span></span></p>\n</div>\n\n<div style="color: rgba(0\, 0\, 0\, 0.85)\; margin: 0px\; font-size: 12px\; font-family: &quot\;Segoe UI&quot\;\, &quot\;Segoe UI Web&quot\;\, Arial\, Verdana\, sans-serif\; clear: both\;">\n<p style="margin: 0px\; color: windowtext\;">&nbsp\;</p>\n\n<p style="margin: 0px\; color: windowtext\;"><span lang="en-US" style="margin: 0px\; font-size: 11pt\; line-height: 19px\; font-family: Verdana\, Verdana_EmbeddedFont\, Verdana_MSFontService\, sans-serif\; font-variant-ligatures: none !important\;"><span style="margin: 0px\; font-size: 11pt\; line-height: normal\;"><a data-saferedirecturl="https://www.google.com/url?q=http://www.10KSBapply.com&amp\;source=gmail&amp\;ust=1646151378097000&amp\;usg=AOvVaw25aV-Isc3jOOGL3Kmjzc-d" href="http://www.10ksbapply.com/" style="color: rgb(17\, 85\, 204)\;" target="_blank" title="www.10KSBapply.com">Apply online today</a>&nbsp\;to take advantage of this opportunity to grow your business!</span></span><span style="margin: 0px\; font-size: 11pt\; line-height: normal\; font-family: Verdana\, Verdana_EmbeddedFont\, Verdana_MSFontService\, sans-serif\;">&nbsp\;</span></p>\n</div>\n\n<div style="color: rgba(0\, 0\, 0\, 0.85)\; margin: 0px\; font-size: 12px\; font-family: &quot\;Segoe UI&quot\;\, &quot\;Segoe UI Web&quot\;\, Arial\, Verdana\, sans-serif\; clear: both\;">\n<p style="margin: 0px\; color: windowtext\;"><span style="margin: 0px\; font-size: 11pt\; line-height: normal\; font-family: Verdana\, Verdana_EmbeddedFont\, Verdana_MSFontService\, sans-serif\;">&nbsp\;</span></p>\n</div>\n\n<div style="margin: 0px\; font-size: 12px\; font-family: &quot\;Segoe UI&quot\;\, &quot\;Segoe UI Web&quot\;\, Arial\, Verdana\, sans-serif\; clear: both\;">\n<p style="margin: 0px\;"><span lang="en-US" style="color: windowtext\; margin: 0px\; font-size: 11pt\; line-height: 19px\; font-family: Verdana\, Verdana_EmbeddedFont\, Verdana_MSFontService\, sans-serif\; font-variant-ligatures: none !important\;"><span style="margin: 0px\; font-size: 11pt\; line-height: normal\;">To learn more about the program</span></span><span lang="en-US" style="color: windowtext\; margin: 0px\; font-size: 11pt\; line-height: 19px\; font-family: Verdana\, Verdana_EmbeddedFont\, Verdana_MSFontService\, sans-serif\; font-variant-ligatures: none !important\;"><span style="margin: 0px\;"><span style="margin: 0px\; font-size: 11pt\; line-height: normal\;">&nbsp\;</span></span><span style="margin: 0px\; font-size: 11pt\; line-height: normal\;">or apply</span></span><span lang="en-US" style="color: windowtext\; margin: 0px\; font-size: 11pt\; line-height: 19px\; font-family: Verdana\, Verdana_EmbeddedFont\, Verdana_MSFontService\, sans-serif\; font-variant-ligatures: none !important\;"><span style="margin: 0px\; font-size: 11pt\; line-height: normal\;">\,</span><span style="margin: 0px\;"><span style="margin: 0px\; font-size: 11pt\; line-height: normal\;">&nbsp\;</span></span></span><span lang="en-US" style="margin: 0px\; font-size: 11pt\; line-height: 19px\; font-family: Verdana\, Verdana_EmbeddedFont\, Verdana_MSFontService\, sans-serif\; font-variant-ligatures: none !important\;"><span style="margin: 0px\; font-size: 11pt\; line-height: normal\;"><font color="rgba(0\, 0\, 0\, 0)"><span style="color: rgb(0\, 0\, 0)\;">visit</span></font><font color="#ba0000"><span style="color: rgb(0\, 0\, 0)\;">&nbsp\;<a data-saferedirecturl="https://www.google.com/url?q=http://www.10KSBapply.com&amp\;source=gmail&amp\;ust=1646151378097000&amp\;usg=AOvVaw25aV-Isc3jOOGL3Kmjzc-d" href="http://www.10ksbapply.com/" style="color: rgb(17\, 85\, 204)\;" target="_blank" title="www.10KSBapply.com">www.10KSBapply.<wbr />com</a></span></font></span></span><span style="color: windowtext\; font-family: Verdana\, Geneva\, sans-serif\; font-size: 11pt\;">&nbsp\;or call the&nbsp\;</span></p>\n\n<p style="margin: 0px\;"><span style="color: windowtext\; font-family: Verdana\, Geneva\, sans-serif\; font-size: 11pt\;"><i>10\,000 Small Businesses</i>&nbsp\;team at (214) 860-5928</span><span lang="en-US" style="font-weight: bold\; color: windowtext\; margin: 0px\; font-size: 11pt\; line-height: 19px\; font-family: Verdana\, Verdana_EmbeddedFont\, Verdana_MSFontService\, sans-serif\; font-variant-ligatures: none !important\;"><span style="margin: 0px\; font-size: 11pt\; line-height: normal\;">.</span></span><span style="color: windowtext\; margin: 0px\; font-size: 11pt\; line-height: normal\; font-family: Verdana\, Verdana_EmbeddedFont\, Verdana_MSFontService\, sans-serif\;">&nbsp\;</span></p>\n\n<p style="margin: 0px\; color: windowtext\;">&nbsp\;</p>\n\n<p style="margin: 0px\; color: windowtext\;"><span style="margin: 0px\; font-size: 11pt\; line-height: 19px\; font-family: Verdana\, Verdana_EmbeddedFont\, Verdana_MSFontService\, sans-serif\;"><span style="margin: 0px\; font-size: 12pt\; font-family: Calibri\, Arial\, Helvetica\, sans-serif\;"><span style="margin: 0px\; font-family: Verdana\, Geneva\, sans-serif\; font-size: 11pt\; line-height: normal\;">Register for an upcoming</span><span style="margin: 0px\; font-family: Verdana\, Geneva\, sans-serif\;"><span style="font-size: 11pt\; line-height: normal\;">&nbsp\;</span></span><span style="margin: 0px\; font-family: Verdana\, Geneva\, sans-serif\; font-size: 11pt\; line-height: normal\;"><b style="line-height: normal\;">informational session</b></span><span style="margin: 0px\; font-family: Verdana\, Geneva\, sans-serif\;"><span style="font-size: 11pt\; line-height: normal\;">&nbsp\;</span></span><span style="margin: 0px\; font-family: Verdana\, Geneva\, sans-serif\; font-size: 11pt\; line-height: normal\;">to learn about the program.&nbsp\;</span></span></span></p>\n\n<div style="color: black\; margin: 0px\; font-size: 12pt\; font-family: Calibri\, Arial\, Helvetica\, sans-serif\;">\n<div style="margin: 0px\;">\n<div style="margin: 0px\;">&nbsp\;</div>\n\n<div style="margin: 0px\;"><span style="margin: 0px\; font-family: Verdana\, Geneva\, sans-serif\; font-size: 11pt\;">You can choose to attend one or both of the following sessions.</span></div>\n\n<div style="margin: 0px\;">&nbsp\;</div>\n</div>\n\n<div style="margin: 0px\; font-size: 12px\; font-family: &quot\;Segoe UI&quot\;\, &quot\;Segoe UI Web&quot\;\, Arial\, Verdana\, sans-serif\; clear: both\;">\n<p style="margin: 0px\; color: windowtext\; font-kerning: none\;"><span lang="en-US" style="margin: 0px\; font-size: 14pt\; line-height: 24.8208px\; font-family: &quot\;Century Gothic&quot\;\, &quot\;Century Gothic_EmbeddedFont&quot\;\, &quot\;Century Gothic_MSFontService&quot\;\, sans-serif\; font-variant-ligatures: none !important\;"><span style="margin: 0px\; font-size: 11pt\; line-height: normal\; font-family: Verdana\, Geneva\, sans-serif\;">March 3 at 1:00 pm&nbsp\;</span></span></p>\n</div>\n\n<div style="margin: 0px\; font-size: 12px\; font-family: &quot\;Segoe UI&quot\;\, &quot\;Segoe UI Web&quot\;\, Arial\, Verdana\, sans-serif\; clear: both\;">\n<p style="margin: 0px\; color: windowtext\; font-kerning: none\;"><span lang="en-US" style="margin: 0px\; font-size: 14pt\; line-height: 24.8208px\; font-family: &quot\;Century Gothic&quot\;\, &quot\;Century Gothic_EmbeddedFont&quot\;\, &quot\;Century Gothic_MSFontService&quot\;\, sans-serif\; font-variant-ligatures: none !important\;"><span style="margin: 0px\; font-size: 11pt\; line-height: normal\; font-family: Verdana\, Geneva\, sans-serif\;">March 24 at 1:00 pm</span></span></p>\n</div>\n\n<div style="margin: 0px\; font-size: 12px\; font-family: &quot\;Segoe UI&quot\;\, &quot\;Segoe UI Web&quot\;\, Arial\, Verdana\, sans-serif\; clear: both\;">\n<p style="margin: 0px\; color: windowtext\; font-kerning: none\;">&nbsp\;</p>\n</div>\n\n<div style="margin: 0px\; font-size: 12px\; font-family: &quot\;Segoe UI&quot\;\, &quot\;Segoe UI Web&quot\;\, Arial\, Verdana\, sans-serif\; clear: both\;">\n<p style="margin: 0px\; color: windowtext\; font-kerning: none\;">&nbsp\;</p>\n</div>\n<span style="margin: 0px\;"><span style="margin: 0px\; font-family: Verdana\, Geneva\, sans-serif\; font-size: 11pt\;">Register here:&nbsp\;</span><span style="margin: 0px\; font-family: Verdana\, Geneva\, sans-serif\;"><a data-saferedirecturl="https://www.google.com/url?q=https://bit.ly/3LvwLRR&amp\;source=gmail&amp\;ust=1646151378097000&amp\;usg=AOvVaw1gn5OQ_NGBJjY3_MmrBAgP" href="https://bit.ly/3LvwLRR" style="color: rgb(17\, 85\, 204)\; margin: 0px\; font-size: 14.6667px\; font-family: Verdana\, Verdana_EmbeddedFont\, Verdana_MSFontService\, sans-serif\;" target="_blank"><span style="font-size: 11pt\;">bit.ly/3LvwLRR</span></a></span></span></div>\n</div>\n</div>\n
LOCATION:Virtual
UID:e.1426.17553
SEQUENCE:3
DTSTAMP:20260424T081101Z
URL:https://www.cedarhillchamber.org/events/details/goldman-sachs-10-000-small-businesses-virtual-informational-17553
END:VEVENT

END:VCALENDAR
