BEGIN:VCALENDAR
VERSION:2.0
PRODID:-//ChamberMaster//Event Calendar 2.0//EN
METHOD:PUBLISH
X-PUBLISHED-TTL:P3D
REFRESH-INTERVAL:P3D
CALSCALE:GREGORIAN
BEGIN:VEVENT
DTSTART:20211216T190000Z
DTEND:20211216T200000Z
X-MICROSOFT-CDO-ALLDAYEVENT:FALSE
SUMMARY:Goldman Sach's 10\,000 Small Businesses Virtual Information Session
DESCRIPTION:The Goldman Sachs 10\,000 Small Business-Dallas College site application deadline for our Summer cohort (May 2022) is fast approaching!\n\n \n\nWe are looking for applicants who are passionate about growing their business\, creating jobs in their communities\, and who generally meet these criteria:   \n\n \n\n1. Owner or co-owner of a business   \n\n2. Business in operation for at least two years   \n\n3. Business revenues of at least $75\,000 in the most recent fiscal year.  \n\n4. Business with a minimum of two employees (including the owner).  \n\n\n\nIf you are selected\, you will receive a full scholarship to participate at no cost to you. Apply online today to take advantage of this opportunity to grow your business!   \n\n\n\nVisit www.10KSBapply.com now.\n\n \n\n\nRegister for an upcoming informational session to learn about the program. \n\n \n\nYou can choose to attend one or more of the following sessions.\n\nDecember 2 at 1:00 pm\n\n\nDecember 16 at 1:00 pm\n\n \nRegister here: https://bit.ly/3cOXto1
X-ALT-DESC;FMTTYPE=text/html:<div style="color: rgb(0\, 0\, 0)\; font-family: Calibri\, Arial\, Helvetica\, sans-serif\; font-size: 16px\; margin: 0px\;"><span style="margin: 0px\;"><span style="margin: 0px\; font-family: Calibri\, sans-serif\;"><span style="margin: 0px\; font-family: arial\, Helvetica\, sans-serif\;"><span style="margin: 0px\; font-family: Verdana\, Geneva\, sans-serif\;">The Goldman Sachs</span><span style="margin: 0px\;"><span style="margin: 0px\; font-family: Verdana\, Geneva\, sans-serif\;">&nbsp\;</span></span><span style="margin: 0px\; font-family: Verdana\, Geneva\, sans-serif\;"><i>10\,000 Small Business</i></span><span style="margin: 0px\; font-family: Verdana\, Geneva\, sans-serif\;">-Dallas College site application deadline for our</span><span style="margin: 0px\;"><span style="margin: 0px\; font-family: Verdana\, Geneva\, sans-serif\;">&nbsp\;</span></span><span style="margin: 0px\; font-family: Verdana\, Geneva\, sans-serif\;"><b>Summer cohort (May 2022)</b>&nbsp\;is fast approaching!</span></span></span><br />\n<span style="margin: 0px\; font-family: Calibri\, sans-serif\;"><span style="margin: 0px\;"><span style="margin: 0px\;"><span style="margin: 0px\; font-family: Verdana\, Geneva\, sans-serif\;">&nbsp\;</span></span></span></span><br style="font-family: Calibri\, sans-serif\;" />\n<span style="margin: 0px\; font-family: Calibri\, sans-serif\;"><span style="margin: 0px\;"><span style="margin: 0px\;"><span style="margin: 0px\;"><span style="margin: 0px\; font-family: arial\, Helvetica\, sans-serif\;"><span style="margin: 0px\; font-family: Verdana\, Geneva\, sans-serif\;">We are looking for applicants who are passionate about growing their business\, creating jobs in their communities\, and who generally meet these criteria: &nbsp\;&nbsp\;</span><br />\n<span style="margin: 0px\; font-family: Verdana\, Geneva\, sans-serif\;">&nbsp\;</span><br />\n<span style="margin: 0px\; font-family: Verdana\, Geneva\, sans-serif\;">1. Owner or co-owner of a business &nbsp\;&nbsp\;</span><br />\n<span style="margin: 0px\; font-family: Verdana\, Geneva\, sans-serif\;">2. Business in operation for at least two years &nbsp\;&nbsp\;</span><br />\n<span style="margin: 0px\; font-family: Verdana\, Geneva\, sans-serif\;">3. Business revenues of at least $75\,000 in the most recent fiscal year. &nbsp\;</span><br />\n<span style="margin: 0px\; font-family: Verdana\, Geneva\, sans-serif\;">4. Business with a minimum of two employees (including the owner). &nbsp\;</span><br />\n<br />\n<span style="margin: 0px\; font-family: Verdana\, Geneva\, sans-serif\;">If you are selected\, you will receive a full scholarship to participate at no cost to you. Apply online today to take advantage of this opportunity to grow your business! &nbsp\;&nbsp\;</span></span></span></span></span></span><br style="font-family: Calibri\, sans-serif\;" />\n<br style="font-family: Calibri\, sans-serif\;" />\n<span style="margin: 0px\; font-family: Calibri\, sans-serif\;"><span style="margin: 0px\;"><span style="margin: 0px\;"><span style="margin: 0px\;"><span style="margin: 0px\; font-family: arial\, Helvetica\, sans-serif\;"><span style="margin: 0px\;"><span style="margin: 0px\;"><span style="margin: 0px\;"><span style="margin: 0px\;"><span style="margin: 0px\;"><span style="margin: 0px\;"><span style="margin: 0px\;"><span style="margin: 0px\; font-size: 12pt\; font-family: Verdana\, Geneva\, sans-serif\;">Visit</span><span style="margin: 0px\;"><span style="margin: 0px\; font-size: 12pt\; font-family: Verdana\, Geneva\, sans-serif\;">&nbsp\;</span></span></span></span></span></span></span></span></span></span><a data-saferedirecturl="https://www.google.com/url?q=https://nam12.safelinks.protection.outlook.com/?url%3Dhttps%253A%252F%252Fwww.10ksbapply.com%252F%26data%3D04%257C01%257Caundrea.harris%2540dcccd.edu%257C4a06f61fc7a24e8b45bf08d98dc9615a%257Cd67e5453732f4adc94a44888f2d97d5d%257C0%257C0%257C637696718907967448%257CUnknown%257CTWFpbGZsb3d8eyJWIjoiMC4wLjAwMDAiLCJQIjoiV2luMzIiLCJBTiI6Ik1haWwiLCJXVCI6Mn0%253D%257C3000%26sdata%3Dy%252FfJj6l7XIk7X7x5zpPQUKlODOUqgRSIMc05h%252FrU8IE%253D%26reserved%3D0&amp\;source=gmail&amp\;ust=1638371358269000&amp\;usg=AOvVaw2_K3Y0uaVL3KYBsMceejJV" href="https://nam12.safelinks.protection.outlook.com/?url=https%3A%2F%2Fwww.10ksbapply.com%2F&amp\;data=04%7C01%7Caundrea.harris%40dcccd.edu%7C4a06f61fc7a24e8b45bf08d98dc9615a%7Cd67e5453732f4adc94a44888f2d97d5d%7C0%7C0%7C637696718907967448%7CUnknown%7CTWFpbGZsb3d8eyJWIjoiMC4wLjAwMDAiLCJQIjoiV2luMzIiLCJBTiI6Ik1haWwiLCJXVCI6Mn0%3D%7C3000&amp\;sdata=y%2FfJj6l7XIk7X7x5zpPQUKlODOUqgRSIMc05h%2FrU8IE%3D&amp\;reserved=0" rel="noopener noreferrer" style="color: rgb(17\, 85\, 204)\; margin: 0px\;" target="_blank" title="Original URL: https://www.10ksbapply.com/. Click or tap if you trust this link."><span style="margin: 0px\; font-family: arial\, Helvetica\, sans-serif\;"><span style="margin: 0px\;"><span style="margin: 0px\;"><span style="margin: 0px\;"><span style="margin: 0px\;"><span style="margin: 0px\;"><span style="margin: 0px\;"><span style="margin: 0px\;"><span style="margin: 0px\; font-size: 12pt\; font-family: Verdana\, Geneva\, sans-serif\;">www.10KSBapply.com</span></span></span></span></span></span></span></span></span></a><span style="margin: 0px\; font-family: Verdana\, Geneva\, sans-serif\;">&nbsp\;</span><span style="margin: 0px\; font-family: arial\, Helvetica\, sans-serif\;"><span style="margin: 0px\;"><span style="margin: 0px\;"><span style="margin: 0px\;"><span style="margin: 0px\;"><span style="margin: 0px\;"><span style="margin: 0px\;"><span style="margin: 0px\;"><span style="margin: 0px\; font-size: 12pt\; font-family: Verdana\, Geneva\, sans-serif\;">now.</span></span></span></span></span></span></span></span></span></span></span></span></span></span></div>\n\n<div style="color: rgb(0\, 0\, 0)\; font-family: Calibri\, Arial\, Helvetica\, sans-serif\; font-size: 16px\; margin: 0px\;">&nbsp\;</div>\n\n<div style="color: rgb(0\, 0\, 0)\; font-family: Calibri\, Arial\, Helvetica\, sans-serif\; font-size: 16px\; margin: 0px\;">\n<div style="margin: 0px\; font-size: 12pt\; font-family: Calibri\, Arial\, Helvetica\, sans-serif\;"><span style="margin: 0px\;"><span style="margin: 0px\; font-family: Calibri\, sans-serif\;"><span style="margin: 0px\;"><span style="margin: 0px\;"><span style="margin: 0px\;"><span style="margin: 0px\; font-family: arial\, Helvetica\, sans-serif\;"><span style="margin: 0px\;"><span style="margin: 0px\;"><span style="margin: 0px\;"><span style="margin: 0px\;"><span style="margin: 0px\;"><span style="margin: 0px\;"><span style="margin: 0px\;"><span style="margin: 0px\;"><span style="margin: 0px\;"><span style="margin: 0px\; font-family: Verdana\, Geneva\, sans-serif\;">Register for an upcoming informational session to learn about the program.&nbsp\;</span></span></span></span></span></span></span></span></span></span></span></span></span></span></span></span>\n\n<div style="margin: 0px\;">&nbsp\;</div>\n\n<div style="margin: 0px\;"><span style="margin: 0px\;"><span style="margin: 0px\; font-family: Calibri\, sans-serif\;"><span style="margin: 0px\;"><span style="margin: 0px\;"><span style="margin: 0px\;"><span style="margin: 0px\; font-family: arial\, Helvetica\, sans-serif\;"><span style="margin: 0px\;"><span style="margin: 0px\;"><span style="margin: 0px\;"><span style="margin: 0px\;"><span style="margin: 0px\;"><span style="margin: 0px\;"><span style="margin: 0px\;"><span style="margin: 0px\;"><span style="margin: 0px\; font-family: Verdana\, Geneva\, sans-serif\;">You can choose to attend one or more of the following sessions.</span></span></span></span></span></span></span></span></span></span></span></span></span></span></span></div>\n\n<div style="margin: 0px\;"><span style="margin: 0px\;"><span style="margin: 0px\; font-family: Calibri\, sans-serif\;"><span style="margin: 0px\;"><span style="margin: 0px\;"><span style="margin: 0px\;"><span style="margin: 0px\; font-family: arial\, Helvetica\, sans-serif\;"><span style="margin: 0px\;"><span style="margin: 0px\;"><span style="margin: 0px\;"><span style="margin: 0px\;"><span style="margin: 0px\;"><span style="margin: 0px\;"><span style="margin: 0px\;"><span style="margin: 0px\;"><span style="margin: 0px\; font-family: Verdana\, Geneva\, sans-serif\;">December 2 at 1:00 pm</span></span></span></span></span></span></span></span></span></span></span></span></span></span></span></div>\n</div>\n\n<div style="margin: 0px\; font-size: 12pt\; font-family: Calibri\, Arial\, Helvetica\, sans-serif\;"><span style="margin: 0px\;"><span style="margin: 0px\; font-family: Calibri\, sans-serif\;"><span style="margin: 0px\;"><span style="margin: 0px\;"><span style="margin: 0px\;"><span style="margin: 0px\; font-family: arial\, Helvetica\, sans-serif\;"><span style="margin: 0px\;"><span style="margin: 0px\;"><span style="margin: 0px\;"><span style="margin: 0px\;"><span style="margin: 0px\;"><span style="margin: 0px\;"><span style="margin: 0px\;"><span style="margin: 0px\;"><span style="margin: 0px\; font-family: Verdana\, Geneva\, sans-serif\;">December 16 at 1:00 pm</span></span></span></span></span></span></span></span></span></span></span></span></span></span></span></div>\n\n<div style="margin: 0px\; font-size: 12pt\; font-family: Calibri\, Arial\, Helvetica\, sans-serif\;">&nbsp\;</div>\n<span style="margin: 0px\;"><span style="margin: 0px\; font-family: Calibri\, sans-serif\;"><span style="margin: 0px\;"><span style="margin: 0px\;"><span style="margin: 0px\;"><span style="margin: 0px\; font-family: arial\, Helvetica\, sans-serif\;"><span style="margin: 0px\;"><span style="margin: 0px\;"><span style="margin: 0px\;"><span style="margin: 0px\;"><span style="margin: 0px\;"><span style="margin: 0px\;"><span style="margin: 0px\;"><span style="margin: 0px\;"><span style="margin: 0px\; font-size: 12pt\; font-family: Calibri\, Arial\, Helvetica\, sans-serif\;"><span style="margin: 0px\; font-family: Verdana\, Geneva\, sans-serif\;">Register here:&nbsp\;<a data-saferedirecturl="https://www.google.com/url?q=https://bit.ly/3cOXto1&amp\;source=gmail&amp\;ust=1638371358269000&amp\;usg=AOvVaw2p5lLeaz3T291H-IvkcgL8" href="https://bit.ly/3cOXto1" id="m_-5415774056439048408m_-7640751373553464226LPNoLPOWALinkPreview" style="color: rgb(17\, 85\, 204)\;" target="_blank">https://bit.ly/3cOXto1</a></span></span></span></span></span></span></span></span></span></span></span></span></span></span></span></span></div>\n
LOCATION:Virtual
UID:e.1426.17102
SEQUENCE:3
DTSTAMP:20260424T111523Z
URL:https://www.cedarhillchamber.org/events/details/goldman-sach-s-10-000-small-businesses-virtual-information-session-17102
END:VEVENT

END:VCALENDAR
