BEGIN:VCALENDAR
VERSION:2.0
PRODID:-//ChamberMaster//Event Calendar 2.0//EN
METHOD:PUBLISH
X-PUBLISHED-TTL:P3D
REFRESH-INTERVAL:P3D
CALSCALE:GREGORIAN
BEGIN:VEVENT
DTSTART:20201023T170000Z
DTEND:20201023T190000Z
X-MICROSOFT-CDO-ALLDAYEVENT:FALSE
SUMMARY:Frost Bank State Fair of Texas Drive-Thru Celebration
DESCRIPTION:Even though the State Fair of Texas can't take place\, Frost will honor its spirit with a drive-through\, socially distanced celebration at the Frost Duncanville Financial Center. The drive-through celebration will feature free turkey legs from Smokey John's Bar-B-Que. Guests may stay in their cars and be provided treats and drinks.
X-ALT-DESC;FMTTYPE=text/html:Even though the State Fair of Texas can&rsquo\;t take place\, Frost will honor its spirit with a drive-through\, socially distanced celebration at the Frost Duncanville Financial Center. The drive-through celebration will feature free turkey legs from Smokey John&#39\;s Bar-B-Que. Guests may stay in their cars and be provided treats and drinks.
LOCATION:Frost Bank Duncanville Financial Center 150 E. Highway 67 Duncanville\, TX 75137
UID:e.1426.16168
SEQUENCE:3
DTSTAMP:20260425T115751Z
URL:https://www.cedarhillchamber.org/events/details/frost-bank-state-fair-of-texas-drive-thru-celebration-16168
END:VEVENT

END:VCALENDAR
