BEGIN:VCALENDAR
VERSION:2.0
PRODID:-//ChamberMaster//Event Calendar 2.0//EN
METHOD:PUBLISH
X-PUBLISHED-TTL:P3D
REFRESH-INTERVAL:P3D
CALSCALE:GREGORIAN
BEGIN:VEVENT
DTSTART:20210611T150000Z
DTEND:20210611T180000Z
X-MICROSOFT-CDO-ALLDAYEVENT:FALSE
SUMMARY:Frost Bank SHRED IT
DESCRIPTION:There's a better way to get rid of sensitive documents. On Friday\, June 11\, from 10:00 a.m. to 1:00 p.m.\, we're bringing sweet treats and shredding services to our Duncanville Financial Center. So bring in your documents\, start shredding\, and protect your security as we provide some treats. For shredding guidelines\, please visit: https://bit.ly/3tODtrH
X-ALT-DESC;FMTTYPE=text/html:There&#39\;s a better way to get rid of sensitive documents. On Friday\, June 11\, from 10:00 a.m. to 1:00 p.m.\, we&rsquo\;re bringing sweet treats and shredding services to our Duncanville Financial Center. So bring in your documents\, start shredding\, and protect your security as we provide some treats. For shredding guidelines\, please visit: <a href="https://bit.ly/3tODtrH">https://bit.ly/3tODtrH</a>
LOCATION:Frost Bank Duncanville Financial Center 150 E. Hwy 67 Duncanville\, TX 75137
UID:e.1426.16518
SEQUENCE:3
DTSTAMP:20260424T204328Z
URL:https://www.cedarhillchamber.org/events/details/frost-bank-shred-it-16518
END:VEVENT

END:VCALENDAR
