BEGIN:VCALENDAR
VERSION:2.0
PRODID:-//ChamberMaster//Event Calendar 2.0//EN
METHOD:PUBLISH
X-PUBLISHED-TTL:P3D
REFRESH-INTERVAL:P3D
CALSCALE:GREGORIAN
BEGIN:VEVENT
DTSTART:20201010T160000Z
DTEND:20201010T170000Z
X-MICROSOFT-CDO-ALLDAYEVENT:FALSE
SUMMARY:Fortitude Wellness Center Ribbon Cutting Ceremony
DESCRIPTION:Join us at the ribbon cutting for Fortitude Wellness Center!
X-ALT-DESC;FMTTYPE=text/html:Join us at the ribbon cutting for Fortitude Wellness Center!
LOCATION:241 E FM 1382 #310 Cedar Hill\, TX 75104
UID:e.1426.16161
SEQUENCE:3
DTSTAMP:20260425T115711Z
URL:https://www.cedarhillchamber.org/events/details/fortitude-wellness-center-ribbon-cutting-ceremony-16161
END:VEVENT

END:VCALENDAR
