BEGIN:VCALENDAR
VERSION:2.0
PRODID:-//ChamberMaster//Event Calendar 2.0//EN
METHOD:PUBLISH
X-PUBLISHED-TTL:P3D
REFRESH-INTERVAL:P3D
CALSCALE:GREGORIAN
BEGIN:VEVENT
DTSTART:20260523T140000Z
DTEND:20260523T190000Z
X-MICROSOFT-CDO-ALLDAYEVENT:FALSE
SUMMARY:Female Bird Day Celebration
DESCRIPTION:Male birds get all the attention\, so this weekend we are celebrating Female Bird Day with birding and bingo that focuses on the females! If we don't pay attention to the ladies\, we are missing half the story. Join us for a celebration of these amazing birds. Dogwood Canyon Audubon Center is a Texan by Nature conservation partner.
X-ALT-DESC;FMTTYPE=text/html:Male birds get all the attention\, so this weekend we are celebrating Female Bird Day with birding and bingo that focuses on the females! If we don&#39\;t pay attention to the ladies\, we are missing half the story. Join us for a celebration of these amazing birds. Dogwood Canyon Audubon Center is a Texan by Nature conservation partner.
LOCATION:Dogwood Canyon Audubon Center 1206 W FM 1382\, Cedar Hill\, TX 75104
UID:e.1426.20608
SEQUENCE:3
DTSTAMP:20260425T214935Z
URL:https://www.cedarhillchamber.org/events/details/female-bird-day-celebration-05-23-2026-20608
END:VEVENT

END:VCALENDAR
