BEGIN:VCALENDAR
VERSION:2.0
PRODID:-//ChamberMaster//Event Calendar 2.0//EN
METHOD:PUBLISH
X-PUBLISHED-TTL:P3D
REFRESH-INTERVAL:P3D
CALSCALE:GREGORIAN
BEGIN:VEVENT
DTSTART:20220319T230000Z
DTEND:20220320T020000Z
X-MICROSOFT-CDO-ALLDAYEVENT:FALSE
SUMMARY:Faces: Reception
DESCRIPTION:Join us for the reception of "Faces" featuring the works of 12 local artists showing works that range from ceramic sculpture to digital paintings. On display through May 7th\, 2022
X-ALT-DESC;FMTTYPE=text/html:Join us for the reception of &ldquo\;Faces&rdquo\; featuring the works of 12 local artists showing works that range from ceramic sculpture to digital paintings. On display through May 7th\, 2022
LOCATION:Sly Cat Gallery 206 S Broad St Cedar Hill\, TX 75104
UID:e.1426.17560
SEQUENCE:3
DTSTAMP:20260424T062845Z
URL:https://www.cedarhillchamber.org/events/details/faces-reception-17560
END:VEVENT

END:VCALENDAR
