BEGIN:VCALENDAR
VERSION:2.0
PRODID:-//ChamberMaster//Event Calendar 2.0//EN
METHOD:PUBLISH
X-PUBLISHED-TTL:P3D
REFRESH-INTERVAL:P3D
CALSCALE:GREGORIAN
BEGIN:VEVENT
DTSTART:20220423T160000Z
DTEND:20220423T180000Z
X-MICROSOFT-CDO-ALLDAYEVENT:FALSE
SUMMARY:Eya's House Preschool Ribbon Cutting Event
DESCRIPTION:You are invited to join Cedar Hill Chamber Member Tiffani Johnson during the ribbon cutting and open house for  Eya's House Preschool and Childcare!  Serving the Cedar Hill TX area near High Pointe Elementary School Preschool & Childcare for ages 3 months to 5 years\, at Eya's House\, we aim to: Establish Youth to Achieve Success. \nBring your family and come celebrate with free food\, a balloon maker\, bounce house\, and local fire and police presence. Kids can enjoy exploring the fire truck and police squad cars! \nAt Eya's House Preschool\, we believe it all starts with a seed. The seeds that are planted in your child that will take root\, provide a solid and rich foundation for continual growth and development\, and prepare them to have a bright and successful future. We focus on creating an environment where all children can thrive academically\, socially\, physically\, and emotionally. Our programs consist of its own weekly themed activities so that your child has something to anticipate each day.\n\n\n\nVisit our website to learn more\, or take a tour during our Ribbon Cutting event. We hope to see you there!\n\n\n\nAddress: 1420 High Pointe Ln\, Cedar Hill\, TX 75104\n\nPhone: (469) 575-0176\n\nEmail: eyashousechildcare@gmail.com
X-ALT-DESC;FMTTYPE=text/html:<span style="font-size:12px"><span style="font-family:arial\,helvetica\,sans-serif">You are invited to join Cedar Hill Chamber Member Tiffani Johnson during the ribbon cutting and open house for&nbsp\; Eya&#39\;s House Preschool and Childcare!&nbsp\;&nbsp\;<strong><em>Serving the Cedar Hill TX area near High Pointe Elementary School Preschool &amp\; Childcare for ages 3 months to 5 years\, at Eya&#39\;s House\, w</em></strong><em>e aim <span style="color:#000000">to:</span></em><span style="color:#000000"> <em>E</em>stablish <em>Y</em>outh to <em>A</em>chieve <em>S</em>uccess.&nbsp\;</span></span></span>\n<p>Bring your family and come celebrate with free food\, a balloon maker\, bounce house\, and local fire and police presence. Kids can enjoy exploring the fire truck and police squad cars!&nbsp\;</p>\n<span style="font-size:12px"><span style="font-family:arial\,helvetica\,sans-serif"><span style="color:rgb(0\, 0\, 0)">At Eya&#39\;s House Preschool\, we believe it all starts with a seed. The seeds that are planted in your child that will take root\, provide a solid and rich foundation for continual growth and development\, and prepare them to have a bright and successful future. We focus on creating an environment where all children can thrive academically\, socially\, physically\, and emotionally.&nbsp\;</span><span style="color:rgb(0\, 0\, 0)">Our programs consist of its own weekly themed activities so that your child has something to anticipate each day.<br />\n<br />\nVisit our <a href="https://www.eyashouse.com/">website</a> to learn more\, or take a tour during our Ribbon Cutting event. We hope to see you there!</span></span></span><br />\n<br />\n<strong><span style="font-size:10px"><span style="color:#000000">Address: 1420 High Pointe Ln\, Cedar Hill\, TX 75104</span><br />\nPhone:&nbsp\;</span></strong><a href="https://www.google.com/search?q=eyas+House+Preschool&amp\;rlz=1C1SQJL_enUS767US767&amp\;oq=eyas+House+Preschool&amp\;aqs=chrome..69i57j69i60j69i61.5497j1j7&amp\;sourceid=chrome&amp\;ie=UTF-8#">(469) 575-0176</a><br />\n<strong><span style="font-size:10px"><span style="font-family:arial\,helvetica\,sans-serif"><span style="color:rgb(0\, 0\, 0)">Email:&nbsp\;</span></span>eyashousechildcare@gmail.com</span></strong><br />\n&nbsp\;
LOCATION:Eya's House Preschool 1420 High Pointe Ln\, Cedar Hill\, TX 75104
UID:e.1426.17558
SEQUENCE:3
DTSTAMP:20260424T050940Z
URL:https://www.cedarhillchamber.org/events/details/eyas-house-preschool-ribbon-cutting-event-17558
END:VEVENT

END:VCALENDAR
