BEGIN:VCALENDAR
VERSION:2.0
PRODID:-//ChamberMaster//Event Calendar 2.0//EN
METHOD:PUBLISH
X-PUBLISHED-TTL:P3D
REFRESH-INTERVAL:P3D
CALSCALE:GREGORIAN
BEGIN:VEVENT
DTSTART:20220819T150000Z
DTEND:20220819T190000Z
X-MICROSOFT-CDO-ALLDAYEVENT:FALSE
SUMMARY:Ellis County Job Fair
DESCRIPTION:It's time to find your dream job! Express Employment Waxahachie is excited to host the Job Fair of the Year and it's coming up soon! Stop by on Friday\, August 19th\, our Recruiters will be offering on-the-spot interviews for all job seekers from 10 AM to 2 PM. There's always the potential for on-the-spot job offers as well!\n\n \n\nWe are hiring for all positions varying from Industrial\, Skilled Trades\, Offices Services\, and Professional. Wages range from $15-$35/hour!\n\n \n\nThere will be Raffles\, Hot Dogs\, Snow Cones\, and more!! You won't want to miss it!\n\nIf you are unable to attend\, no worries! Call today to get an interview set up for a day that works best for you. Remember\, there's never a fee to the job seeker!
X-ALT-DESC;FMTTYPE=text/html:<div>It&#39\;s time to find your dream job! Express Employment Waxahachie is excited to host the Job Fair of the Year and it&#39\;s coming up soon! Stop by on Friday\, August 19th\, our Recruiters will be offering on-the-spot interviews for all job seekers from 10 AM to 2 PM. There&#39\;s always the potential for on-the-spot job offers as well!<br />\n&nbsp\;</div>\n\n<div>We are hiring for all positions varying from Industrial\, Skilled Trades\, Offices Services\, and Professional. Wages range from $15-$35/hour!<br />\n&nbsp\;</div>\n\n<div>There will be Raffles\, Hot Dogs\, Snow Cones\, and more!! You won&#39\;t want to miss it!</div>\n\n<div>If you are unable to attend\, no worries! Call today to get an interview set up for a day that works best for you. Remember\, there&#39\;s never a fee to the job seeker!&nbsp\;</div>\n
LOCATION:138 N Highway 77 Waxahachie\, TX 75165
UID:e.1426.17835
SEQUENCE:3
DTSTAMP:20260423T215306Z
URL:https://www.cedarhillchamber.org/events/details/ellis-county-job-fair-17835
END:VEVENT

END:VCALENDAR
