BEGIN:VCALENDAR
VERSION:2.0
PRODID:-//ChamberMaster//Event Calendar 2.0//EN
METHOD:PUBLISH
X-PUBLISHED-TTL:P3D
REFRESH-INTERVAL:P3D
CALSCALE:GREGORIAN
BEGIN:VEVENT
DTSTART:20230113T220000Z
DTEND:20230113T233000Z
X-MICROSOFT-CDO-ALLDAYEVENT:FALSE
SUMMARY:Downtown Celebraton!
DESCRIPTION:You're Invited to a Downtown Celebration with a complete streets ribbon cutting and Lake-Moreno project kick-off with remarks at the corner of Broad and Cedar Street followed by a reception at 1846 featuring Mija's BBQ\, Saviana Winery and Ash & Ember Brewing.
X-ALT-DESC;FMTTYPE=text/html:<span style="font-family: Arial\; font-size: 14.4px\;">You&#39\;re Invited to a Downtown Celebration with a complete streets ribbon cutting and Lake-Moreno project kick-off with remarks at the corner of Broad and Cedar Street followed by a reception at 1846 featuring Mija&#39\;s BBQ\, Saviana Winery and Ash &amp\; Ember Brewing.</span>
LOCATION:1846 Coffee 610 Cedar St Cedar Hill\, TX 75104
UID:e.1426.17997
SEQUENCE:3
DTSTAMP:20260423T164005Z
URL:https://www.cedarhillchamber.org/events/details/downtown-celebraton-17997
END:VEVENT

END:VCALENDAR
