BEGIN:VCALENDAR
VERSION:2.0
PRODID:-//ChamberMaster//Event Calendar 2.0//EN
METHOD:PUBLISH
X-PUBLISHED-TTL:P3D
REFRESH-INTERVAL:P3D
CALSCALE:GREGORIAN
BEGIN:VEVENT
DTSTART:20210505T140000Z
DTEND:20210505T160000Z
X-MICROSOFT-CDO-ALLDAYEVENT:FALSE
SUMMARY:Dallas ISD Bonding Academy
DESCRIPTION:Dallas Independent School District's Minority/Women Business Enterprise Department in partnership with SSP Consulting\, L.C. is hosting the 2021 Bond Academy. The Dallas ISD Bonding Academy will have four (4) sessions\, each Wednesday May 5th\, May 12th\, May 19th\, and May 26th from 9:00 am   11:00 am.  \n\n \n\nThe participants of the Bond Academy will: \n\n  Develop and acquire an understanding of what is required to prepare a successful bond application.  \n\n  Expand their bonding capacity or become pre-qualified for a bond.  \n\n  Understand the Dallas ISD RFP process.  \n\n  Increase their eligibility for contracting opportunities with Dallas ISD.  \n\n \n\nTo apply for the 2021 Bond Academy\, go to https://tinyurl.com/2021DISDBondAcademy.  Seating is limited. The date for completing the Application has been extended from April 14th to April 21\, 2021".\n\n \n\nYou may also contact TAMEKA SADLER\, Senior Project Manager\, SSP Consulting\, L.C. at c49893@dallasisd.org or WILTON MUNNINGS\, M/WBE Bond Program Manager\, Dallas Independent School District at wmunnings@dallasisd.org.
X-ALT-DESC;FMTTYPE=text/html:<p style="color: rgb(34\, 34\, 34)\; font-family: Arial\, Helvetica\, sans-serif\; font-size: small\;"><span style="font-size: 12pt\;"><span style="font-size: 11pt\;"><span style="color: black\;"><strong>Dallas Independent School District&rsquo\;s Minority/Women Business Enterprise Department in partnership with SSP Consulting\, L.C. is hosting the 2021 Bond Academy. The Dallas ISD Bonding Academy will have four (4) sessions\, each</strong>&nbsp\;</span></span></span><span style="font-size: 12pt\;"><span style="font-size: 11pt\;"><span style="color: black\;">Wednesday May 5th\, May 12th\, May&nbsp\;19th\, and May 26th&nbsp\;from 9:00 am &ndash\; 11:00 am. &nbsp\;</span></span></span></p>\n\n<p style="color: rgb(34\, 34\, 34)\; font-family: Arial\, Helvetica\, sans-serif\; font-size: small\;">&nbsp\;</p>\n\n<p style="color: rgb(34\, 34\, 34)\; font-family: Arial\, Helvetica\, sans-serif\; font-size: small\;"><strong><span style="font-size: 12pt\;"><span style="font-size: 11pt\;"><span style="color: black\;">The participants of the Bond Academy will:&nbsp\;</span></span></span></strong></p>\n\n<p style="color: rgb(34\, 34\, 34)\; font-family: Arial\, Helvetica\, sans-serif\; font-size: small\;"><strong><span style="font-size: 12pt\;"><span style="font-size: 11pt\;"><span style="color: black\;">&bull\; Develop and acquire an understanding of what is required to prepare a successful bond application. &nbsp\;</span></span></span></strong></p>\n\n<p style="color: rgb(34\, 34\, 34)\; font-family: Arial\, Helvetica\, sans-serif\; font-size: small\;"><strong><span style="font-size: 12pt\;"><span style="font-size: 11pt\;"><span style="color: black\;">&bull\; Expand their bonding capacity or become pre-qualified for a bond. &nbsp\;</span></span></span></strong></p>\n\n<p style="color: rgb(34\, 34\, 34)\; font-family: Arial\, Helvetica\, sans-serif\; font-size: small\;"><strong><span style="font-size: 12pt\;"><span style="font-size: 11pt\;"><span style="color: black\;">&bull\; Understand the Dallas ISD RFP process. &nbsp\;</span></span></span></strong></p>\n\n<p style="color: rgb(34\, 34\, 34)\; font-family: Arial\, Helvetica\, sans-serif\; font-size: small\;"><strong><span style="font-size: 12pt\;"><span style="font-size: 11pt\;"><span style="color: black\;">&bull\; Increase their eligibility for contracting opportunities with Dallas ISD. &nbsp\;</span></span></span></strong></p>\n\n<p style="color: rgb(34\, 34\, 34)\; font-family: Arial\, Helvetica\, sans-serif\; font-size: small\;"><span style="font-size: 12pt\;">&nbsp\;</span></p>\n\n<p style="color: rgb(34\, 34\, 34)\; font-family: Arial\, Helvetica\, sans-serif\; font-size: small\;"><span style="font-size: 12pt\;"><span style="font-size: 11pt\;"><span style="color: black\;">To apply for the 2021 Bond Academy\, go to&nbsp\;<a data-saferedirecturl="https://www.google.com/url?q=https://nam02.safelinks.protection.outlook.com/?url%3Dhttps%253A%252F%252Ftinyurl.com%252F2021DISDBondAcademy%26data%3D04%257C01%257CJABRAHAMS%2540dallasisd.org%257C7d4f3360f82f4180d5d408d8c7ff8c83%257C800a094b60c842e5afe66ccb630750c2%257C0%257C0%257C637479247677398793%257CUnknown%257CTWFpbGZsb3d8eyJWIjoiMC4wLjAwMDAiLCJQIjoiV2luMzIiLCJBTiI6Ik1haWwiLCJXVCI6Mn0%253D%257C1000%26sdata%3DBM7Kj8qrsJHHl8ZjMM1ACLBfuDeA8ny09XH8mKDwR4w%253D%26reserved%3D0&amp\;source=gmail&amp\;ust=1618409852929000&amp\;usg=AFQjCNHBr0L3lxuBN8FKk8BV5JlGmLOR1g" href="https://nam02.safelinks.protection.outlook.com/?url=https%3A%2F%2Ftinyurl.com%2F2021DISDBondAcademy&amp\;data=04%7C01%7CJABRAHAMS%40dallasisd.org%7C7d4f3360f82f4180d5d408d8c7ff8c83%7C800a094b60c842e5afe66ccb630750c2%7C0%7C0%7C637479247677398793%7CUnknown%7CTWFpbGZsb3d8eyJWIjoiMC4wLjAwMDAiLCJQIjoiV2luMzIiLCJBTiI6Ik1haWwiLCJXVCI6Mn0%3D%7C1000&amp\;sdata=BM7Kj8qrsJHHl8ZjMM1ACLBfuDeA8ny09XH8mKDwR4w%3D&amp\;reserved=0" rel="noreferrer" style="color: rgb(5\, 99\, 193)\;" target="_blank">https://tinyurl.com/<wbr />2021DISDBondAcademy</a>.&nbsp\;&nbsp\;<span style="font-size: 16px\;">Seating is limited.&nbsp\;</span></span></span></span><span style="font-size: 16px\;"><span style="font-family: &quot\;Times New Roman&quot\;\, Times\, serif\;">The date for completing the Application has been extended from April 14th to April 21\, 2021&rdquo\;.</span></span></p>\n\n<p style="color: rgb(34\, 34\, 34)\; font-family: Arial\, Helvetica\, sans-serif\; font-size: small\;">&nbsp\;</p>\n\n<p style="color: rgb(34\, 34\, 34)\; font-family: Arial\, Helvetica\, sans-serif\; font-size: small\;"><span style="font-size: 12pt\;"><span style="font-size: 11pt\;"><span style="color: black\;"><strong>You may also contact</strong>&nbsp\;TAMEKA SADLER\,&nbsp\;<strong>Senior Project Manager\, SSP Consulting\, L.C.</strong>&nbsp\;at&nbsp\;<a href="mailto:c49893@dallasisd.org" rel="noreferrer" style="color: rgb(5\, 99\, 193)\;" target="_blank">c49893@dallasisd.org</a>&nbsp\;or WILTON MUNNINGS\,&nbsp\;<strong>M/WBE Bond Program Manager\, Dallas Independent School District at</strong>&nbsp\;<a href="mailto:wmunnings@dallasisd.org" rel="noreferrer" style="color: rgb(5\, 99\, 193)\;" target="_blank">wmunnings@dallasisd.org</a>.&nbsp\;</span></span></span></p>\n
LOCATION:
UID:e.1426.16493
SEQUENCE:3
DTSTAMP:20260422T003028Z
URL:https://www.cedarhillchamber.org/events/details/dallas-isd-bonding-academy-16493
END:VEVENT

END:VCALENDAR
