BEGIN:VCALENDAR
VERSION:2.0
PRODID:-//ChamberMaster//Event Calendar 2.0//EN
METHOD:PUBLISH
X-PUBLISHED-TTL:P3D
REFRESH-INTERVAL:P3D
CALSCALE:GREGORIAN
BEGIN:VEVENT
DTSTART:20220121T170000Z
DTEND:20220122T230000Z
X-MICROSOFT-CDO-ALLDAYEVENT:FALSE
SUMMARY:Dallas Franchise Show
DESCRIPTION:Dallas Franchise Expo - Free Tickets January 21-22\, 2022: Dallas\n\nFriday January 21st from 11AM-5PM\n\nSaturday January 22nd from 11AM-5PM\n\n(*Safety Precautions in Effect*)\n\n\n\nCome to Largest ""Own Your Own Business"" Event!\n\nAll Your Proven Business Options under One Roof!\n\n  Meet face to face with successful businesses looking for franchisees and dealers.\n\n  Find the perfect full time or part-time business for you.\n\n  See the hottest money-making opportunities.\n\n  Attend FREE seminars and learn how to operate a successful business!
X-ALT-DESC;FMTTYPE=text/html:Dallas Franchise Expo - Free Tickets January 21-22\, 2022: Dallas<br />\nFriday January 21st from 11AM-5PM<br />\nSaturday January 22nd from 11AM-5PM<br />\n(*Safety Precautions in Effect*)<br />\n<br />\nCome to Largest &quot\;&quot\;Own Your Own Business&quot\;&quot\; Event!<br />\nAll Your Proven Business Options under One Roof!<br />\n&bull\; Meet face to face with successful businesses looking for franchisees and dealers.<br />\n&bull\; Find the perfect full time or part-time business for you.<br />\n&bull\; See the hottest money-making opportunities.<br />\n&bull\; Attend FREE seminars and learn how to operate a successful business!<br />\n&nbsp\;
LOCATION:Dallas Market Hall\, Main Hall 2200 Stemmons Freeway\, Dallas\, Texas 75207
UID:e.1426.17099
SEQUENCE:3
DTSTAMP:20260424T111216Z
URL:https://www.cedarhillchamber.org/events/details/dallas-franchise-show-17099
END:VEVENT

END:VCALENDAR
