BEGIN:VCALENDAR
VERSION:2.0
PRODID:-//ChamberMaster//Event Calendar 2.0//EN
METHOD:PUBLISH
X-PUBLISHED-TTL:P3D
REFRESH-INTERVAL:P3D
CALSCALE:GREGORIAN
BEGIN:VEVENT
DTSTART:20230420T170000Z
DTEND:20230420T210000Z
X-MICROSOFT-CDO-ALLDAYEVENT:FALSE
SUMMARY:Dallas College Career Fair
DESCRIPTION:
X-ALT-DESC;FMTTYPE=text/html:
LOCATION:Richland Campus Guadalupe Hall\, Gym Mountain View Campus Building E\, Gym
UID:e.1426.18016
SEQUENCE:3
DTSTAMP:20260423T222232Z
URL:https://www.cedarhillchamber.org/events/details/dallas-college-career-fair-18016
END:VEVENT

END:VCALENDAR
