BEGIN:VCALENDAR
VERSION:2.0
PRODID:-//ChamberMaster//Event Calendar 2.0//EN
METHOD:PUBLISH
X-PUBLISHED-TTL:P3D
REFRESH-INTERVAL:P3D
CALSCALE:GREGORIAN
BEGIN:VEVENT
DTSTART:20211204T160000Z
DTEND:20211204T180000Z
X-MICROSOFT-CDO-ALLDAYEVENT:FALSE
SUMMARY:Cookies with Santa at Frost Bank
DESCRIPTION:Frost invites families to come to 18 Houston-area Frost financial centers for a little holiday cheer with a special guest: Santa Claus. Guests can enjoy holiday cookies in a festive setting while kids get a chance to visit with Santa. Parents should bring a camera so their kids can pose for pictures with St. Nick. The visits from Santa are an annual holiday tradition at Frost\, where dedication to the community has been part of the culture since the company began in 1868.
X-ALT-DESC;FMTTYPE=text/html:Frost invites families to come to 18 Houston-area Frost financial centers for a little holiday cheer with a special guest: Santa Claus. Guests can enjoy holiday cookies in a festive setting while kids get a chance to visit with Santa. Parents should bring a camera so their kids can pose for pictures with St. Nick. The visits from Santa are an annual holiday tradition at Frost\, where dedication to the community has been part of the culture since the company began in 1868.
LOCATION:Frost Duncanville Financial Center 150 E Hwy 67 Duncanville\, TX 75137
UID:e.1426.17103
SEQUENCE:3
DTSTAMP:20260424T111640Z
URL:https://www.cedarhillchamber.org/events/details/cookies-with-santa-at-frost-bank-17103
END:VEVENT

END:VCALENDAR
