BEGIN:VCALENDAR
VERSION:2.0
PRODID:-//ChamberMaster//Event Calendar 2.0//EN
METHOD:PUBLISH
X-PUBLISHED-TTL:P3D
REFRESH-INTERVAL:P3D
CALSCALE:GREGORIAN
BEGIN:VEVENT
DTSTART:20220920T133000Z
DTEND:20220920T163000Z
X-MICROSOFT-CDO-ALLDAYEVENT:FALSE
SUMMARY:Connections to Contracts
DESCRIPTION:This is a procurement-focused event connecting women-owned businesses with corporations and each other. It features a networking breakfast\, corporate roundtable procurement discussions\, and a panel discussion on resources available to small businesses.
X-ALT-DESC;FMTTYPE=text/html:<p style="margin: 0px\; color: rgb(50\, 49\, 48)\; font-size: 11pt\; font-family: Calibri\, sans-serif\;"><span style="font-family: &quot\;Times New Roman&quot\;\, Times\, serif\; font-size: 12pt\;">This is a procurement-focused event connecting women-owned businesses with corporations&nbsp\;and each other. It features a networking breakfast\, corporate roundtable procurement discussions\, and a panel discussion&nbsp\;on resources available to small businesses.</span></p>\n
LOCATION:Norris Conference Center Austin\, TX
UID:e.1426.17857
SEQUENCE:3
DTSTAMP:20260423T200509Z
URL:https://www.cedarhillchamber.org/events/details/connections-to-contracts-17857
END:VEVENT

END:VCALENDAR
