BEGIN:VCALENDAR
VERSION:2.0
PRODID:-//ChamberMaster//Event Calendar 2.0//EN
METHOD:PUBLISH
X-PUBLISHED-TTL:P3D
REFRESH-INTERVAL:P3D
CALSCALE:GREGORIAN
BEGIN:VEVENT
DTSTART:20231121T180000Z
DTEND:20231121T190000Z
X-MICROSOFT-CDO-ALLDAYEVENT:FALSE
SUMMARY:Competitive Edge: If I Had TIme
DESCRIPTION:Competitive Edge\n\nTuesday\, November 21\, 2023\n\n300 Houston St\, Cedar Hill\, TX 75104\n\n \n\nIf I Only Had the Time\n\nThat's rights\, the number one topic that's on everyone's mind. \n\nTime Management!\n\nThis is the topic that is recognized as the #1 problem for most business owners\, managers\, entrepreneurs\, executives\, sales professionals\, professional people\, and parents. The lack of time to get everything done that needs to be done.\n\n \n\nJoin us on November 21 at 12:00 noon for Competitive Edge to learn some tools that will help you find more time. Lunch is provided.\n\n \n\nOur November Competitive Edge will show you:\n\n       An effective prioritization tool.\n\n       The 5 Steps to Work/Life Effectiveness \n\n       The 5-Finger Rule\n\n       An energy audit self-assessment\n\n       The 4 sources of personal renewable energy\n\n       And more \n\n \n\nThe Competitive Edge is sponsored by the Cedar Hill Chamber of Commerce\, Chick-fil-A Cedar Hill and presented by Steve Hendon\, PCC.\n\nJoin us and find more time.\n\n \n\nRegister Now\n\n \n\nQuestions call (972) 291-7817 or email admin@cedarhillchamber.org.
X-ALT-DESC;FMTTYPE=text/html:<p style="margin: 0px\; padding: 0px\; color: rgb(64\, 63\, 66)\; font-family: Arial\, Verdana\, Helvetica\, sans-serif\; font-size: 12px\; white-space-collapse: preserve\; text-align: center\;"><span style="font-size: 22px\; font-weight: bold\;">Competitive Edge</span></p>\n\n<p style="margin: 0px\; padding: 0px\; color: rgb(64\, 63\, 66)\; font-family: Arial\, Verdana\, Helvetica\, sans-serif\; font-size: 12px\; white-space-collapse: preserve\; text-align: center\;"><span style="font-size: 22px\; font-weight: bold\;">Tuesday\, November 21\, 2023</span></p>\n\n<p style="margin: 0px\; padding: 0px\; color: rgb(64\, 63\, 66)\; font-family: Arial\, Verdana\, Helvetica\, sans-serif\; font-size: 12px\; white-space-collapse: preserve\; text-align: center\;"><span style="font-size: 22px\; font-weight: bold\;">300 Houston St\, Cedar Hill\, TX 75104</span></p>\n\n<p style="margin: 0px\; padding: 0px\; color: rgb(64\, 63\, 66)\; font-family: Arial\, Verdana\, Helvetica\, sans-serif\; font-size: 12px\; white-space-collapse: preserve\; text-align: center\;">&nbsp\;</p>\n\n<p style="margin: 0px\; padding: 0px\; color: rgb(64\, 63\, 66)\; font-family: Arial\, Verdana\, Helvetica\, sans-serif\; font-size: 12px\; white-space-collapse: preserve\; text-align: center\;"><span style="font-size: 22px\; color: red\; font-weight: bold\;">If I Only Had the Time</span></p>\n\n<p style="margin: 0px\; padding: 0px\; color: rgb(64\, 63\, 66)\; font-family: Arial\, Verdana\, Helvetica\, sans-serif\; font-size: 12px\; white-space-collapse: preserve\; text-align: center\;"><span style="font-size: 16px\;">That&rsquo\;s rights\, the number one topic that&rsquo\;s on everyone&rsquo\;s mind. </span></p>\n\n<p style="margin: 0px\; padding: 0px\; color: rgb(64\, 63\, 66)\; font-family: Arial\, Verdana\, Helvetica\, sans-serif\; font-size: 12px\; white-space-collapse: preserve\; text-align: center\;"><span style="font-size: 16px\; font-weight: bold\;">Time Management!</span></p>\n\n<p style="margin: 0px\; padding: 0px\; color: rgb(64\, 63\, 66)\; font-family: Arial\, Verdana\, Helvetica\, sans-serif\; font-size: 12px\; white-space-collapse: preserve\; text-align: center\;"><span style="font-size: 16px\;">This is the topic that is recognized as the #1 problem for most business owners\, managers\, entrepreneurs\, executives\, sales professionals\, professional people\, and parents. The lack of time to get everything done that needs to be done.</span></p>\n\n<p style="margin: 0px\; padding: 0px\; color: rgb(64\, 63\, 66)\; font-family: Arial\, Verdana\, Helvetica\, sans-serif\; font-size: 12px\; white-space-collapse: preserve\; text-align: center\;">&nbsp\;</p>\n\n<p style="margin: 0px\; padding: 0px\; color: rgb(64\, 63\, 66)\; font-family: Arial\, Verdana\, Helvetica\, sans-serif\; font-size: 12px\; white-space-collapse: preserve\; text-align: center\;"><span style="font-size: 16px\;">Join us on November 21 at 12:00 noon for Competitive Edge to learn some tools that will help you find more time. Lunch is provided.</span></p>\n\n<p style="margin: 0px\; padding: 0px\; color: rgb(64\, 63\, 66)\; font-family: Arial\, Verdana\, Helvetica\, sans-serif\; font-size: 12px\; white-space-collapse: preserve\; text-align: center\;">&nbsp\;</p>\n\n<p style="margin: 0px\; padding: 0px\; color: rgb(64\, 63\, 66)\; font-family: Arial\, Verdana\, Helvetica\, sans-serif\; font-size: 12px\; white-space-collapse: preserve\; text-align: center\;"><span style="font-size: 16px\;">Our November Competitive Edge will show you:</span></p>\n\n<p style="margin: 0px\; padding: 0px\; color: rgb(64\, 63\, 66)\; font-family: Arial\, Verdana\, Helvetica\, sans-serif\; font-size: 12px\; white-space-collapse: preserve\;"><span style="font-size: 16px\;">&middot\;</span><span style="font-size: 16px\; font-family: Georgia\, &quot\;Times New Roman&quot\;\, Times\, serif\;">&nbsp\;&nbsp\;&nbsp\;&nbsp\;&nbsp\;&nbsp\;</span><span style="font-size: 16px\;">An effective prioritization tool.</span></p>\n\n<p style="margin: 0px\; padding: 0px\; color: rgb(64\, 63\, 66)\; font-family: Arial\, Verdana\, Helvetica\, sans-serif\; font-size: 12px\; white-space-collapse: preserve\;"><span style="font-size: 16px\;">&middot\;</span><span style="font-size: 16px\; font-family: Georgia\, &quot\;Times New Roman&quot\;\, Times\, serif\;">&nbsp\;&nbsp\;&nbsp\;&nbsp\;&nbsp\;&nbsp\;</span><span style="font-size: 16px\;">The 5 Steps to Work/Life Effectiveness </span></p>\n\n<p style="margin: 0px\; padding: 0px\; color: rgb(64\, 63\, 66)\; font-family: Arial\, Verdana\, Helvetica\, sans-serif\; font-size: 12px\; white-space-collapse: preserve\;"><span style="font-size: 16px\;">&middot\;</span><span style="font-size: 16px\; font-family: Georgia\, &quot\;Times New Roman&quot\;\, Times\, serif\;">&nbsp\;&nbsp\;&nbsp\;&nbsp\;&nbsp\;&nbsp\;</span><span style="font-size: 16px\;">The 5-Finger Rule</span></p>\n\n<p style="margin: 0px\; padding: 0px\; color: rgb(64\, 63\, 66)\; font-family: Arial\, Verdana\, Helvetica\, sans-serif\; font-size: 12px\; white-space-collapse: preserve\;"><span style="font-size: 16px\;">&middot\;</span><span style="font-size: 16px\; font-family: Georgia\, &quot\;Times New Roman&quot\;\, Times\, serif\;">&nbsp\;&nbsp\;&nbsp\;&nbsp\;&nbsp\;&nbsp\;</span><span style="font-size: 16px\;">An energy audit self-assessment</span></p>\n\n<p style="margin: 0px\; padding: 0px\; color: rgb(64\, 63\, 66)\; font-family: Arial\, Verdana\, Helvetica\, sans-serif\; font-size: 12px\; white-space-collapse: preserve\;"><span style="font-size: 16px\;">&middot\;</span><span style="font-size: 16px\; font-family: Georgia\, &quot\;Times New Roman&quot\;\, Times\, serif\;">&nbsp\;&nbsp\;&nbsp\;&nbsp\;&nbsp\;&nbsp\;</span><span style="font-size: 16px\;">The 4 sources of personal renewable energy</span></p>\n\n<p style="margin: 0px\; padding: 0px\; color: rgb(64\, 63\, 66)\; font-family: Arial\, Verdana\, Helvetica\, sans-serif\; font-size: 12px\; white-space-collapse: preserve\;"><span style="font-size: 16px\;">&middot\;</span><span style="font-size: 16px\; font-family: Georgia\, &quot\;Times New Roman&quot\;\, Times\, serif\;">&nbsp\;&nbsp\;&nbsp\;&nbsp\;&nbsp\;&nbsp\;</span><span style="font-size: 16px\;">And more&hellip\;</span></p>\n\n<p style="margin: 0px\; padding: 0px\; color: rgb(64\, 63\, 66)\; font-family: Arial\, Verdana\, Helvetica\, sans-serif\; font-size: 12px\; white-space-collapse: preserve\;">&nbsp\;</p>\n\n<p style="margin: 0px\; padding: 0px\; color: rgb(64\, 63\, 66)\; font-family: Arial\, Verdana\, Helvetica\, sans-serif\; font-size: 12px\; white-space-collapse: preserve\; text-align: center\;"><span style="font-size: 16px\;">The Competitive Edge is sponsored by the Cedar Hill Chamber of Commerce\, Chick-fil-A Cedar Hill and presented by Steve Hendon\, PCC.</span></p>\n\n<p style="margin: 0px\; padding: 0px\; color: rgb(64\, 63\, 66)\; font-family: Arial\, Verdana\, Helvetica\, sans-serif\; font-size: 12px\; white-space-collapse: preserve\; text-align: center\;"><span style="font-size: 16px\;">Join us and find more time.</span></p>\n\n<p style="margin: 0px\; padding: 0px\; color: rgb(64\, 63\, 66)\; font-family: Arial\, Verdana\, Helvetica\, sans-serif\; font-size: 12px\; white-space-collapse: preserve\; text-align: center\;">&nbsp\;</p>\n\n<p style="margin: 0px\; padding: 0px\; color: rgb(64\, 63\, 66)\; font-family: Arial\, Verdana\, Helvetica\, sans-serif\; font-size: 12px\; white-space-collapse: preserve\; text-align: center\;"><span style="font-size: 16px\;">Register Now</span></p>\n\n<p style="margin: 0px\; padding: 0px\; color: rgb(64\, 63\, 66)\; font-family: Arial\, Verdana\, Helvetica\, sans-serif\; font-size: 12px\; white-space-collapse: preserve\; text-align: center\;">&nbsp\;</p>\n\n<p style="margin: 0px\; padding: 0px\; color: rgb(64\, 63\, 66)\; font-family: Arial\, Verdana\, Helvetica\, sans-serif\; font-size: 12px\; white-space-collapse: preserve\; text-align: center\;"><span style="font-size: 16px\;">Questions call (972) 291-7817 or email admin@cedarhillchamber.org.</span></p>\n
LOCATION:Cedar Hill Chamber 300 Houston St.
UID:e.1426.18175
SEQUENCE:3
DTSTAMP:20260424T080038Z
URL:https://www.cedarhillchamber.org/events/details/competitive-edge-if-i-had-time-18175
END:VEVENT

END:VCALENDAR
