BEGIN:VCALENDAR
VERSION:2.0
PRODID:-//ChamberMaster//Event Calendar 2.0//EN
METHOD:PUBLISH
X-PUBLISHED-TTL:P3D
REFRESH-INTERVAL:P3D
CALSCALE:GREGORIAN
BEGIN:VEVENT
DTSTART:20230321T170000Z
DTEND:20230321T180000Z
X-MICROSOFT-CDO-ALLDAYEVENT:FALSE
SUMMARY:Competitive Edge Business Forum: The Neuroscience of Success
DESCRIPTION:This month\, we continue our discussion of success and high performance. Have the little voices\, in your head\, ever whispered doubt\, procrastination\, hesitation\, or unworthiness? Do you ever feel like an impostor? If so\, congratulations\, you are human. Everyday\, these saboteurs go to work on us holding us back from what we are truly capable of doing. These voices are so good at what they do that we are often not even aware they are there.\n\nJoin us on Tuesday\, March 21 for the Competitive Edge Business Forum. We are going to confront these voices and learn some techniques to build resistance to them. Learn to diminish the voices\, grow your performance\, and realize your potential. This takes work\, but you can do it\, regardless of your profession\, level of experience\, or age. These techniques work.
X-ALT-DESC;FMTTYPE=text/html:<p style="margin: 0px\;">This month\, we continue our discussion of success and high performance. Have the little voices\, in your head\, ever whispered doubt\, procrastination\, hesitation\, or unworthiness? Do you ever feel like an impostor? If so\, congratulations\, you are human. Everyday\, these saboteurs go to work on us holding us back from what we are truly capable of doing. These voices are so good at what they do that we are often not even aware they are there.<br />\nJoin us on Tuesday\, March 21 for the Competitive Edge Business Forum. We are going to confront these voices and learn some techniques to build resistance to them. Learn to diminish the voices\, grow your performance\, and realize your potential. This takes work\, but you can do it\, regardless of your profession\, level of experience\, or age. These techniques work.</p>\n
LOCATION:Cedar Hill Chamber 300 Houston St.
UID:e.1426.18079
SEQUENCE:3
DTSTAMP:20260423T202935Z
URL:https://www.cedarhillchamber.org/events/details/competitive-edge-business-forum-the-neuroscience-of-success-18079
END:VEVENT

END:VCALENDAR
