BEGIN:VCALENDAR
VERSION:2.0
PRODID:-//ChamberMaster//Event Calendar 2.0//EN
METHOD:PUBLISH
X-PUBLISHED-TTL:P3D
REFRESH-INTERVAL:P3D
CALSCALE:GREGORIAN
BEGIN:VEVENT
DTSTART:20231010T170000Z
DTEND:20231010T180000Z
X-MICROSOFT-CDO-ALLDAYEVENT:FALSE
SUMMARY:Competitive Edge Business Forum: Coaching as a Leadership Tool
DESCRIPTION:Competitive Edge Business Forum\n\nTuesday\, October 10\, 2023\n\nCoaching as a Leadership Tool\n\nWelcome to Fall and Competitive Edge. Over the next three months\, we are going to talk about\n\nleadership development and more specifically our own personal development. There is so\n\nmuch for us to talk about\, and you have an opportunity to set the agenda for what's most\n\nimportant.\n\nThis month we are meeting on Tuesday\, September 26 and our topic is all about Coaching.\n\nWe will take a look at what coaching is and what it's not. Learn some key skills to make your\n\ncoaching conversations more effective and impactful for the person you are coaching and for\n\nyou. This is a great topic for discussion.\n\nAs always\, lunch will be provided\, and we will have a good time as we dig into "Coaching as a\n\nLeadership Tool. Please rsvp to this email or register on the Chamber website so we can plan\n\nfor food.\n\nSee you Tuesday\,
X-ALT-DESC;FMTTYPE=text/html:<p style="margin: 0px\;">Competitive Edge Business Forum<br />\nTuesday\, October 10\, 2023<br />\nCoaching as a Leadership Tool<br />\nWelcome to Fall and Competitive Edge. Over the next three months\, we are going to talk about<br />\nleadership development and more specifically our own personal development. There is so<br />\nmuch for us to talk about\, and you have an opportunity to set the agenda for what&rsquo\;s most<br />\nimportant.<br />\nThis month we are meeting on Tuesday\, September 26 and our topic is all about Coaching.<br />\nWe will take a look at what coaching is and what it&rsquo\;s not. Learn some key skills to make your<br />\ncoaching conversations more effective and impactful for the person you are coaching and for<br />\nyou. This is a great topic for discussion.<br />\nAs always\, lunch will be provided\, and we will have a good time as we dig into &ldquo\;Coaching as a<br />\nLeadership Tool. Please rsvp to this email or register on the Chamber website so we can plan<br />\nfor food.<br />\nSee you Tuesday\,</p>\n
LOCATION:Cedar Hill Chamber 300 Houston St.
UID:e.1426.18007
SEQUENCE:3
DTSTAMP:20260424T080220Z
URL:https://www.cedarhillchamber.org/events/details/competitive-edge-business-forum-coaching-as-a-leadership-tool-18007
END:VEVENT

END:VCALENDAR
