BEGIN:VCALENDAR
VERSION:2.0
PRODID:-//ChamberMaster//Event Calendar 2.0//EN
METHOD:PUBLISH
X-PUBLISHED-TTL:P3D
REFRESH-INTERVAL:P3D
CALSCALE:GREGORIAN
BEGIN:VEVENT
DTSTART:20240618T170000Z
DTEND:20240618T180000Z
X-MICROSOFT-CDO-ALLDAYEVENT:FALSE
SUMMARY:Competitive Edge 2024
DESCRIPTION:The reality of the digital world we live in (2022 statistics):\n\n\n\n80% of cybercrimes are attributed to phishing attacks (mail masquerading to be a trusted source and with dangerous links)\n\n\n\nThe cost of cybercrimes is projected to reach $10.5 trillion by 2025.\n\n1.2% of all emails sent are malicious phishing.\n\n\n\nBusinesses - Attacks leading to a data breach cost a business on average $4.35M\n\n\n\nIndividuals - 3.6M adults personally lost money in phishing attacks\n\n\n\n\n\n\n\n\n\n\n\n\n\n\n\n\n\n\n\n\n\n\n\n\n\n\n\n\n\n\n\n\n\n\n\n\n\n\n\n\n\n\n\n\n\n\n\n\n\n\n\n\n\n\n\n\n\n\n\n \n\n\n\n\nCyber Threats - are you playing defense?The reality of the digital world we live in (2022 statistics):\n\n\n\n	80% of cybercrimes are attributed to phishing attacks (mail masquerading to be a trusted source and with dangerous links)\n	The cost of cybercrimes is projected to reach $10.5 trillion by 2025.\n	1.2% of all emails sent are malicious phishing.\n	Businesses - Attacks leading to a data breach cost a business on average $4.35M\n	Individuals - 3.6M adults personally lost money in phishing attacks\n\n\n\nAsk yourself:\n\n\n\n	Would a cyber breach affect your revenue flow "today" or damage your brand reputation and future cash flow "tomorrow"? \n	Are you confident the right technical and usage practices are in-place that reduce risks from these cyber threats?
X-ALT-DESC;FMTTYPE=text/html:<div class="xdj266r x11i5rnm xat24cr x1mh8g0r x1vvkbs x126k92a" style="margin: 0px\; white-space-collapse: preserve\; overflow-wrap: break-word\; font-family: &quot\;Segoe UI Historic&quot\;\, &quot\;Segoe UI&quot\;\, Helvetica\, Arial\, sans-serif\; color: rgb(5\, 5\, 5)\; font-size: 15px\;">\n<div dir="auto" style="font-family: inherit\;">The reality of the digital world we live in (2022 statistics):</div>\n</div>\n\n<div class="x11i5rnm xat24cr x1mh8g0r x1vvkbs xtlvy1s x126k92a" style="margin: 0.5em 0px 0px\; white-space-collapse: preserve\; overflow-wrap: break-word\; font-family: &quot\;Segoe UI Historic&quot\;\, &quot\;Segoe UI&quot\;\, Helvetica\, Arial\, sans-serif\; color: rgb(5\, 5\, 5)\; font-size: 15px\;">\n<div dir="auto" style="font-family: inherit\;">80% of cybercrimes are attributed to phishing attacks (mail masquerading to be a trusted source and with dangerous links)</div>\n</div>\n\n<div class="x11i5rnm xat24cr x1mh8g0r x1vvkbs xtlvy1s x126k92a" style="margin: 0.5em 0px 0px\; white-space-collapse: preserve\; overflow-wrap: break-word\; font-family: &quot\;Segoe UI Historic&quot\;\, &quot\;Segoe UI&quot\;\, Helvetica\, Arial\, sans-serif\; color: rgb(5\, 5\, 5)\; font-size: 15px\;">\n<div dir="auto" style="font-family: inherit\;">The cost of cybercrimes is projected to reach $10.5 trillion by 2025.</div>\n\n<div dir="auto" style="font-family: inherit\;">1.2% of all emails sent are malicious phishing.</div>\n</div>\n\n<div class="x11i5rnm xat24cr x1mh8g0r x1vvkbs xtlvy1s x126k92a" style="margin: 0.5em 0px 0px\; white-space-collapse: preserve\; overflow-wrap: break-word\; font-family: &quot\;Segoe UI Historic&quot\;\, &quot\;Segoe UI&quot\;\, Helvetica\, Arial\, sans-serif\; color: rgb(5\, 5\, 5)\; font-size: 15px\;">\n<div dir="auto" style="font-family: inherit\;">Businesses - Attacks leading to a data breach cost a business on average $4.35M</div>\n</div>\n\n<div class="x11i5rnm xat24cr x1mh8g0r x1vvkbs xtlvy1s x126k92a" style="margin: 0.5em 0px 0px\; white-space-collapse: preserve\; overflow-wrap: break-word\; font-family: &quot\;Segoe UI Historic&quot\;\, &quot\;Segoe UI&quot\;\, Helvetica\, Arial\, sans-serif\; color: rgb(5\, 5\, 5)\; font-size: 15px\;">\n<div dir="auto" style="font-family: inherit\;">Individuals - 3.6M adults personally lost money in phishing attacks</div>\n</div>\n<br />\n<br />\n<br />\n<br />\n<br />\n<br />\n<br />\n<br />\n<br />\n<br />\n<br />\n<br />\n<br />\n<br />\n<br />\n<br />\n<br />\n<br />\n<br />\n<br />\n<br />\n<br />\n<br />\n<br />\n<br />\n<br />\n<br />\n<br />\n<br />\n&nbsp\;\n<div style="color: rgb(34\, 34\, 34)\; font-family: Arial\, Helvetica\, sans-serif\; font-size: small\;"><br />\n<br />\nCyber Threats - are you playing defense?The reality of the digital world we live in (2022 statistics):</div>\n\n<div style="color: rgb(34\, 34\, 34)\; font-family: Arial\, Helvetica\, sans-serif\; font-size: small\;">\n<ul>\n	<li style="margin-left: 15px\;">80% of cybercrimes are attributed to phishing attacks (mail masquerading to be a trusted source and with dangerous links)</li>\n	<li style="margin-left: 15px\;">The cost of cybercrimes is projected to reach $10.5 trillion by 2025.</li>\n	<li style="margin-left: 15px\;">1.2% of all emails sent are malicious phishing.</li>\n	<li style="margin-left: 15px\;">Businesses - Attacks leading to a data breach cost a business on average $4.35M</li>\n	<li style="margin-left: 15px\;">Individuals - 3.6M adults personally lost money in phishing attacks</li>\n</ul>\n</div>\n\n<div style="color: rgb(34\, 34\, 34)\; font-family: Arial\, Helvetica\, sans-serif\; font-size: small\;">Ask yourself:</div>\n\n<div style="color: rgb(34\, 34\, 34)\; font-family: Arial\, Helvetica\, sans-serif\; font-size: small\;">\n<ul>\n	<li style="margin-left: 15px\;">Would a cyber breach affect your revenue flow &quot\;today&quot\; or damage your brand reputation and future cash flow &quot\;tomorrow&quot\;?&nbsp\;</li>\n	<li style="margin-left: 15px\;">Are you confident the right technical and usage practices are in-place that reduce risks from these cyber threats?</li>\n</ul>\n</div>\n
LOCATION:
UID:e.1426.17155
SEQUENCE:3
DTSTAMP:20260423T150759Z
URL:https://www.cedarhillchamber.org/events/details/competitive-edge-2024-05-21-2024-17155
END:VEVENT

END:VCALENDAR
