BEGIN:VCALENDAR
VERSION:2.0
PRODID:-//ChamberMaster//Event Calendar 2.0//EN
METHOD:PUBLISH
X-PUBLISHED-TTL:P3D
REFRESH-INTERVAL:P3D
CALSCALE:GREGORIAN
BEGIN:VEVENT
DTSTART:20220621T170000Z
DTEND:20220621T180000Z
X-MICROSOFT-CDO-ALLDAYEVENT:FALSE
SUMMARY:Competitive Edge
DESCRIPTION:Are You Thriving?\n\nOver the past three months\, we have taken a deep dive with our signature skills. We covered a lot of ground\, so I asked the Competitive Edge participants what they would like to focus on in June. \n\n\n\nIn May\, we focused on wellbeing and how important it is to help us thrive consistently. We talked about the PERMAH model for wellbeing and how effective it can be\, and they said they wanted more. Specifically\, they said they wanted to learn more about the action steps they can take to raise their well-being and their ability to thrive.\n\n\n\nMessage delivered! This month we are going to discuss approximately 90 strategies for raising our well-being. I will provide handouts for ongoing reference\, and we will discuss how you can know which ones to focus on. This will be a group discussion and you are invited\, even if you haven't attended the past few sessions.\n\n\n\nParticipants are encouraged to take the free PERMAH Wellbeing Survey and bring your results.\n\n\n\nTo access the PERMAH Wellbeing Survey\, go to: https://permahsurvey.com\n\nI hope to see you on Tuesday\, June 21\, 2022. Lunch will be served. Registration is requested
X-ALT-DESC;FMTTYPE=text/html:<strong><span style="color:red\;"><span style="font-size:12.0pt\;">Are You Thriving?</span></span></strong><br />\n<span style="font-size:12.0pt\;">Over the past three months\, we have taken a deep dive with our signature skills. We covered a lot of ground\, so I asked the Competitive Edge participants what they would like to focus on in June. </span><br />\n<br />\n<span style="font-size:12.0pt\;">In May\, we focused on wellbeing and how important it is to help us thrive consistently. We talked about the PERMAH model for wellbeing and how effective it can be\, <strong>and they said they wanted more</strong>. Specifically\, they said they wanted to learn more about the action steps they can take to raise their well-being and their ability to thrive.</span><br />\n<br />\n<span style="font-size:12.0pt\;">Message delivered! This month we are going to discuss approximately 90 strategies for raising our well-being. I will provide handouts for ongoing reference\, and we will discuss how you can know which ones to focus on. This will be a group discussion and you are invited\, even if you haven&rsquo\;t attended the past few sessions.</span><br />\n<br />\n<span style="font-size:12.0pt\;">Participants are encouraged to take the <strong>free</strong> PERMAH Wellbeing Survey and bring your results.</span><br />\n<br />\n<span style="font-size:12.0pt\;">To access the PERMAH Wellbeing Survey\, go to: </span><a href="https://permahsurvey.com/"><span style="font-size:12.0pt\;">https://permahsurvey.com</span></a><br />\n<span style="font-size:12.0pt\;">I hope to see you on Tuesday\, June 21\, 2022. Lunch will be served. Registration is requested</span>
LOCATION:
UID:e.1426.17132
SEQUENCE:3
DTSTAMP:20260424T025819Z
URL:https://www.cedarhillchamber.org/events/details/competitive-edge-06-21-2022-17132
END:VEVENT

END:VCALENDAR
