BEGIN:VCALENDAR
VERSION:2.0
PRODID:-//ChamberMaster//Event Calendar 2.0//EN
METHOD:PUBLISH
X-PUBLISHED-TTL:P3D
REFRESH-INTERVAL:P3D
CALSCALE:GREGORIAN
BEGIN:VEVENT
DTSTART:20220517T170000Z
DTEND:20220517T180000Z
X-MICROSOFT-CDO-ALLDAYEVENT:FALSE
SUMMARY:Competitive Edge
DESCRIPTION:How have you been feeling lately?\n\n	Really struggling\n	Feeling on top of the world\n	Not feeling terrible\, but just getting by\n	Living well despite some struggles\n\nUnfortunately\, according to a Gallup study\, 76% of full-time employees experience feeling burned out on the job at lest sometimes and 28% report feeling burned out at work "very often" or "always."\n\n\n\nFortunately\, we don't have to be part of that statistic. If we have the right tools\,\n\nwe can thrive\, most of the time\, in spite of disappointments\, setbacks\, or failures.\n\n\n\nJoin us Tuesday\, May 17 as we continue our discussion of the "Signature Skills."\n\n\n\nWe will discuss:\n\n	The importance of well-being and some statistics that will surprise you\n	Our genetic set point for well-being\n	A model to help us understand measure and improve our wellbeing\n	A free assessment to determine where you are right now with your well-being\n\nWe will have a short review for those of you that weren't able to catch the first two Signature Skills. See you on the 17th .
X-ALT-DESC;FMTTYPE=text/html:How have you been feeling lately?\n<ul>\n	<li>Really struggling</li>\n	<li>Feeling on top of the world</li>\n	<li>Not feeling terrible\, but just getting by</li>\n	<li>Living well despite some struggles</li>\n</ul>\nUnfortunately\, according to a Gallup study\, 76% of full-time employees experience feeling burned out on the job at lest sometimes and 28% report feeling burned out at work &ldquo\;very often&rdquo\; or &ldquo\;always.&rdquo\;<br />\n<br />\nFortunately\, we don&rsquo\;t have to be part of that statistic. If we have the right tools\,<br />\nwe can thrive\, most of the time\, in spite of disappointments\, setbacks\, or failures.<br />\n<br />\n<strong>Join us Tuesday\, May 17 as we continue our discussion of the &ldquo\;Signature Skills.&rdquo\;</strong><br />\n<br />\nWe will discuss:\n<ul>\n	<li>The importance of well-being and some statistics that will surprise you</li>\n	<li>Our genetic set point for well-being</li>\n	<li>A model to help us understand measure and improve our wellbeing</li>\n	<li>A free assessment to determine where you are right now with your well-being</li>\n</ul>\nWe will have a short review for those of you that weren&rsquo\;t able to catch the first two Signature Skills. See you on the 17th .
LOCATION:
UID:e.1426.16228
SEQUENCE:3
DTSTAMP:20260424T031511Z
URL:https://www.cedarhillchamber.org/events/details/competitive-edge-05-17-2022-16228
END:VEVENT

END:VCALENDAR
