BEGIN:VCALENDAR
VERSION:2.0
PRODID:-//ChamberMaster//Event Calendar 2.0//EN
METHOD:PUBLISH
X-PUBLISHED-TTL:P3D
REFRESH-INTERVAL:P3D
CALSCALE:GREGORIAN
BEGIN:VEVENT
DTSTART:20220419T170000Z
DTEND:20220419T180000Z
X-MICROSOFT-CDO-ALLDAYEVENT:FALSE
SUMMARY:Competitive Edge
DESCRIPTION:How Your Emotions Drive Your Performance\n\nLast month we focused on the first of three "Signature Skills\," our strengths. This month we are going to take a look at another signature skill that is just as important when it comes to personal and professional development and becoming a high-performance individual. Emotions\, also referred to as our feelings\, play a bigger role in our personal and professional lives than most people realize or want to admit.\n\nEmotional intelligence has a strong impact on the way we learn\, the quality of our decision making\, creativity\, relationships\, and our health. In this months Competitive Edge participants will learn:\n\n	Some of the myths associated with our emotions\n	Why emotional intelligence is crucial to high-performance\n	How emotions impact your learning\, decision making\, creativity\, relationships\, and your health.\n	A new perspective on how to view your emotions\n	Three questions and a great tool for managing your emotions\n\nJoin us for The Competitive Edge Business Forum on Tuesday\, April 19\, 2022\, at the Cedar Hill Chamber of Commerce. Lunch will be catered\, compliments of Chick-fil-A\, but you need to register so we can plan for the food.
X-ALT-DESC;FMTTYPE=text/html:<span style="color:#FF0000\;"><strong>How Your Emotions Drive Your Performance</strong></span><br />\nLast month we focused on the first of three &ldquo\;Signature Skills\,&rdquo\; our strengths. This month we are going to take a look at another signature skill that is just as important when it comes to personal and professional development and becoming a high-performance individual. Emotions\, also referred to as our feelings\, play a bigger role in our personal and professional lives than most people realize or want to admit.<br />\nEmotional intelligence has a strong impact on the way we learn\, the quality of our decision making\, creativity\, relationships\, and our health. In this months Competitive Edge participants will learn:\n<ul>\n	<li>Some of the myths associated with our emotions</li>\n	<li>Why emotional intelligence is crucial to high-performance</li>\n	<li>How emotions impact your learning\, decision making\, creativity\, relationships\, and your health.</li>\n	<li>A new perspective on how to view your emotions</li>\n	<li>Three questions and a great tool for managing your emotions</li>\n</ul>\nJoin us for The Competitive Edge Business Forum on Tuesday\, April 19\, 2022\, at the Cedar Hill Chamber of Commerce. Lunch will be catered\, compliments of Chick-fil-A\, but you need to register so we can plan for the food.
LOCATION:Cedar Hill Chamber 300 Houston St Cedar Hill\, TX 75104
UID:e.1426.16227
SEQUENCE:3
DTSTAMP:20260424T062040Z
URL:https://www.cedarhillchamber.org/events/details/competitive-edge-04-19-2022-16227
END:VEVENT

END:VCALENDAR
