BEGIN:VCALENDAR
VERSION:2.0
PRODID:-//ChamberMaster//Event Calendar 2.0//EN
METHOD:PUBLISH
X-PUBLISHED-TTL:P3D
REFRESH-INTERVAL:P3D
CALSCALE:GREGORIAN
BEGIN:VEVENT
DTSTART:20230418T170000Z
DTEND:20230418T180000Z
X-MICROSOFT-CDO-ALLDAYEVENT:FALSE
SUMMARY:Competitive Edge - 04/18/2023
DESCRIPTION:Competitive Edge Business Forum\n\nTuesday\, April 18\, 2023\, 12:00   1:00 pm\n\nCedar Hill Chamber of Commerce\, 300 Houston St.\n\nThe Path to Mental Fitness\n\nLast month we talked about the little voices\, the saboteurs\, that derail our productivity. We all have them\, and they can be destructive. If we can identify the message they are delivering\, we can deal with them effectively and quickly. In our March Competitive Edge\, I promised access to an assessment that helps you identify those saboteurs.\n\nJoin us on Tuesday\, April 18 to debrief your saboteur results and talk about how you transition to your "Sage" where your creativity and the recipe for success is stored. \n\n \n\n RSVP to me at steve@practicetobusiness.com and I will send you the link to the assessment. I will also share with you how to access more information about mental fitness. You'll be glad you attended this one.\n\n \n\nPlease RSVP so we can plan for food. As always\, lunch will be provided\,\n\ncompliments of Chick-fil-A Cedar Hill.\n\nSee you on the 18th\, Steve Hendon\, PCC\, Practice To Business
X-ALT-DESC;FMTTYPE=text/html:<p style="margin: 0px\; padding: 0px\; color: rgb(64\, 63\, 66)\; font-family: Arial\, Verdana\, Helvetica\, sans-serif\; font-size: 12px\; white-space: pre-wrap\; text-align: center\;"><span style="font-size: 18px\; font-weight: bold\;">Competitive Edge Business Forum</span></p>\n\n<p style="margin: 0px\; padding: 0px\; color: rgb(64\, 63\, 66)\; font-family: Arial\, Verdana\, Helvetica\, sans-serif\; font-size: 12px\; white-space: pre-wrap\; text-align: center\;"><span style="font-size: 18px\; font-weight: bold\;">Tuesday\, April 18\, 2023\, 12:00 &ndash\; 1:00 pm</span></p>\n\n<p style="margin: 0px\; padding: 0px\; color: rgb(64\, 63\, 66)\; font-family: Arial\, Verdana\, Helvetica\, sans-serif\; font-size: 12px\; white-space: pre-wrap\; text-align: center\;"><span style="font-size: 18px\; font-weight: bold\;">Cedar Hill Chamber of Commerce\, 300 Houston St.</span></p>\n\n<p style="margin: 0px\; padding: 0px\; color: rgb(64\, 63\, 66)\; font-family: Arial\, Verdana\, Helvetica\, sans-serif\; font-size: 12px\; white-space: pre-wrap\; text-align: center\;"><span style="font-size: 19px\; color: red\; font-weight: bold\;">The Path to Mental Fitness</span></p>\n\n<p style="margin: 0px\; padding: 0px\; color: rgb(64\, 63\, 66)\; font-family: Arial\, Verdana\, Helvetica\, sans-serif\; font-size: 12px\; white-space: pre-wrap\; text-align: center\;"><span style="font-size: 16px\;">Last month we talked about the little voices\, the saboteurs\, that derail our productivity. We all have them\, and they can be destructive. If we can identify the message they are delivering\, we can deal with them effectively and quickly. In our March Competitive Edge\, I promised access to an assessment that helps you identify those saboteurs.</span></p>\n\n<p style="margin: 0px\; padding: 0px\; color: rgb(64\, 63\, 66)\; font-family: Arial\, Verdana\, Helvetica\, sans-serif\; font-size: 12px\; white-space: pre-wrap\; text-align: center\;"><span style="font-size: 16px\;">Join us on Tuesday\, April 18 to debrief your saboteur results and talk about how you transition to your &ldquo\;Sage&rdquo\; where your creativity and the recipe for success is stored. </span></p>\n\n<p style="margin: 0px\; padding: 0px\; color: rgb(64\, 63\, 66)\; font-family: Arial\, Verdana\, Helvetica\, sans-serif\; font-size: 12px\; white-space: pre-wrap\; text-align: center\;">&nbsp\;</p>\n\n<p style="margin: 0px\; padding: 0px\; color: rgb(64\, 63\, 66)\; font-family: Arial\, Verdana\, Helvetica\, sans-serif\; font-size: 12px\; white-space: pre-wrap\; text-align: center\;"><span style="font-size: 16px\;">&#65279\;RSVP to me at </span><a href="mailto:steve@practicetobusiness.com" style="color: rgb(72\, 161\, 153)\; font-size: 16px\;" target="_blank">steve@practicetobusiness.com</a><span style="font-size: 16px\;"> and I will send you the link to the assessment. I will also share with you how to access more information about mental fitness. You&rsquo\;ll be glad you attended this one.</span></p>\n\n<p style="margin: 0px\; padding: 0px\; color: rgb(64\, 63\, 66)\; font-family: Arial\, Verdana\, Helvetica\, sans-serif\; font-size: 12px\; white-space: pre-wrap\; text-align: center\;">&nbsp\;</p>\n\n<p style="margin: 0px\; padding: 0px\; color: rgb(64\, 63\, 66)\; font-family: Arial\, Verdana\, Helvetica\, sans-serif\; font-size: 12px\; white-space: pre-wrap\; text-align: center\;"><span style="font-size: 16px\;">Please </span><span style="font-size: 16px\; color: rgb(233\, 76\, 58)\; font-weight: bold\;">RSVP</span><span style="font-size: 16px\;"> so we can plan for food. As always\, lunch will be provided\,<br />\ncompliments of Chick-fil-A Cedar Hill.</span></p>\n\n<p style="margin: 0px\; padding: 0px\; color: rgb(64\, 63\, 66)\; font-family: Arial\, Verdana\, Helvetica\, sans-serif\; font-size: 12px\; white-space: pre-wrap\; text-align: center\;"><span style="font-size: 16px\;">See you on the 18</span><sup style="font-size: 16px\;">th</sup><span style="font-size: 16px\;">\, Steve Hendon\, PCC\, Practice To Business</span></p>\n
LOCATION:
UID:e.1426.17142
SEQUENCE:3
DTSTAMP:20260423T221340Z
URL:https://www.cedarhillchamber.org/events/details/competitive-edge-04-18-2023-17142
END:VEVENT

END:VCALENDAR
